{"text_format":"1","workbook":"xlsx","n_sheets":8,"sheets":["①利用許可書","②利用者名簿","③研修日程表","④レストラン食事申込書 ","➄食物ｱﾚﾙｷﾞ‐事前確認票","➅誓約書","統括表","許可証"],"not_rendered":{"charts":0,"images":10,"macros":1,"external_links":2,"defined_names":25,"comments":3,"pivot_tables":0},"unopened":[],"bounds":{"document_bytes":16777216,"sheet_cells":100000,"rows_first":2000,"rows_last":500,"rows_between":2000,"halvings":0,"cell_chars":16384,"cell_head_chars":4096},"cells_cut":0,"cells_raw":0,"read":"whole","date_system":"1900"}

{"sheet":"①利用許可書","index":0,"n_rows":52,"n_cols":50,"rows_kept":52,"cut":false,"hidden":false,"merged":[[26,12,27,12],[24,10,25,10],[24,11,25,11],[30,0,30,6],[30,7,30,27],[40,12,40,16],[40,17,40,21],[39,7,40,11],[39,12,39,16],[39,17,39,21],[39,22,40,27],[37,7,38,11],[37,12,37,16],[37,17,37,21],[37,22,38,27],[38,12,38,16],[38,17,38,21],[31,0,40,6],[24,15,25,15],[23,23,23,27],[24,23,25,27],[26,23,27,27],[28,23,29,27],[20,7,20,27],[9,13,9,16],[4,30,5,31],[4,32,5,37],[28,10,29,10],[28,11,29,11],[28,13,29,13],[28,14,29,14],[28,15,29,15],[28,16,29,17],[12,14,12,16],[26,15,27,15],[26,16,27,17],[11,17,11,26],[17,7,17,16],[24,7,25,8],[24,9,25,9],[24,12,25,12],[26,7,27,8],[26,9,27,9],[1,0,2,27],[3,13,3,16],[3,18,3,19],[4,1,4,10],[5,1,5,10],[6,13,6,16],[6,17,6,27],[7,13,7,16],[1,30,1,32],[44,0,49,27],[2,45,3,45],[42,0,43,27],[8,13,8,16],[11,14,11,16],[9,17,9,27],[10,14,10,16],[17,17,17,27],[21,7,21,13],[21,14,21,20],[21,21,21,27],[22,7,22,13],[22,14,22,20],[22,21,22,27],[28,7,29,8],[28,9,29,9],[28,12,29,12],[35,7,36,11],[35,12,35,16],[35,17,35,21],[35,22,36,27],[36,12,36,16],[36,17,36,21],[4,38,5,40],[11,49,12,54],[41,21,41,27],[28,30,28,33],[31,7,32,11],[31,12,31,16],[31,17,31,21],[31,22,32,27],[32,12,32,16],[32,17,32,21],[33,7,34,11],[33,12,33,16],[33,17,33,21],[33,22,34,27],[34,12,34,16],[34,17,34,21],[24,13,25,13],[24,14,25,14],[24,16,25,17],[26,10,27,10],[26,11,27,11],[26,13,27,13],[26,14,27,14],[41,0,41,14],[23,0,29,6],[0,36,1,38],[7,30,7,44],[2,41,3,41],[2,44,3,44],[8,17,8,27],[23,7,23,17],[23,18,23,22],[2,46,3,46],[2,42,3,43],[2,32,3,37],[2,38,3,40],[0,33,1,35],[2,30,3,31],[15,1,15,26],[17,0,17,6],[18,0,20,6],[18,7,18,27],[19,7,19,27],[21,0,22,6],[7,18,7,21],[13,1,14,26],[12,17,12,26],[10,17,10,26],[0,0,0,4]]}
["（日帰り利用者用）",null,null,null,null,null,null,null,null,null,null,null,null,null,null,null,null,null,null,null,null,null,null,null,null,null,null,null,null,null,null,null,null,{"$f":"J22+2018","v":2018},null,null,{"$f":"J23+2018","v":2018},null,null,null,null,null,null,null,null,null,null,"利用目的"]
["佐賀県波戸岬少年自然の家　利用許可申請書",null,null,null,null,null,null,null,null,null,null,null,null,null,null,null,null,null,null,null,null,null,null,null,null,null,null,null,null,null,{"$f":"J25+2018","v":2018},null,null,null,null,null,null,null,null,null,null,null,null,null,null,null,null,"宿泊学習体験活動"]
[null,null,null,null,null,null,null,null,null,null,null,null,null,null,null,null,null,null,null,null,null,null,null,null,null,null,null,null,null,null,null,null,null,null,null,null,null,null,null,null,null,null,null,null,null,null,null,"５年生宿泊学習"]
[null,null,null,null,null,null,null,null,null,null,null,null,null,"申込年月日",null,null,null,null,"令和",null,null,"年",null,"月",null,"日",null,null,null,null,null,null,null,null,null,null,null,null,null,null,null,null,null,null,null,null,null,"スポーツの合宿"]
[null,"公益財団法人佐賀県教育文化振興財団",null,null,null,null,null,null,null,null,null,null,null,null,null,null,null,null,null,null,null,null,null,null,null,null,null,null,null,null,"本日は",null,{"$f":"TODAY()","v":"2025-03-01"},null,null,null,null,null,"です。",null,null,null,null,null,null,null,null,"研修会"]
[null,"波戸岬少年自然の家所長　　　様　",null,null,null,null,null,null,null,null,null,null,null,null,null,null,null,null,null,null,null,null,null,null,null,null,null,null,null,null,null,null,null,null,null,null,null,null,null,null,null,null,null,null,null,null,null,"大会への参加"]
[null,null,null,null,null,null,null,null,null,null,null,null,null,"団　体　名"]
[null,null,null,null,null,null,null,null,null,null,null,null,null,"郵 便 番 号",null,null,null,null,null,null,null,null,null,null,null,null,null,null,null,null,null,null,null,null,null,null,null,null,null,null,null,null,null,null,null,null,null,"主催事業"]
[null,null,null,null,null,null,null,null,null,null,null,null,null,"所　在　地",null,null,null,null,null,null,null,null,null,null,null,null,null,null,null,null,null,null,null,null,null,null,null,null,null,null,null,null,null,null,null,null,null,null,null,{"$f":"AX10-AX11","v":{"$error":"#VALUE!"}}]
[null,null,null,null,null,null,null,null,null,null,null,null,null,"責任者氏名",null,null,null,null,null,null,null,null,null,null,null,null,null,null,null,null,null,null,null,null,null,null,null,null,null,null,null,null,null,null,null,null,null,null,null,{"$f":"\"令和\"&J23&\"年\"&L23&\"月\"&O23&\"日\"","v":"令和年月日"}]
[null,null,null,null,null,null,null,null,null,null,null,null,null,"(","電話番号",null,null,null,null,null,null,null,null,null,null,null,null,null,null,null,null,null,null,null,null,null,null,null,null,null,null,null,null,null,null,null,null,null,null,{"$f":"\"令和\"&J22&\"年\"&L22&\"月\"&O22&\"日\"","v":"令和年月女日"}]
[null,null,null,null,null,null,null,null,null,null,null,null,null,"(","FAX番号",null,null,null,null,null,null,null,null,null,null,null,null,"）"]
[null,null,null,null,null,null,null,null,null,null,null,null,null,"(","E-mail",null,null,null,null,null,null,null,null,null,null,null,null,"）"]
[null,"下記のとおり佐賀県波戸岬少年自然の家を利用したいので、許可されるよう申請します。"]
[]
[null,"記",null,null,null,null,null,null,null,null,null,null,null,null,null,null,null,null,null,null,null,null,null,null,null,null,null,null,null,null,null,null,null,null,null,null,null,null,null,null,null,null,null,null,null,null,null,null,null,{"$f":"AX11","v":"令和年月女日"}]
[]
["利　用　目　的",null,null,null,null,null,null,null,null,null,null,null,null,null,null,null,null,null,null,null,null,null,null,null,null,null,null,null,null,null,"①プルダウンメニューから選んでください。加筆・修正可能"]
["利　用　区　分\n（チェックを入れる）",null,null,null,null,null,null,null,null,null,null,null,null,null,null,null,null,null,null,null,null,null,null,null,null,null,null,null,null,null,"②メニューにない場合は、手入力でお願します。"]
[null,null,null,null,null,null,null,"　"]
[null,null,null,null,null,null,null,"　"]
["利　用　人　数",null,null,null,null,null,null,"男",null,null,null,null,null,null,"女",null,null,null,null,null,null,"合　　　計"]
[null,null,null,null,null,null,null,null,null,null,null,null,null,null,null,null,null,null,null,null,null,{"$f":"H23+O23","v":0}]
["利用希望日時・施設\n\n※他団体との調整が必要な\n   場合は希望通りにならな\nい場合があります。こ",null,null,null,null,null,null,"利　　　用　　　日",null,null,null,null,null,null,null,null,null,null,"利用希望時間",null,null,null,null,"利用希望施設"]
[null,null,null,null,null,null,null,"令和",null,null,"年",null,"月",null,"日",{"$f":"IFERROR(TEXT(DATE($AE$2,$L$25,$N$25),\"aaa\"),\"\")","v":"木"},"曜日",null,null,"時",null,"分","～"]
[null,null,null,null,null,null,null,null,null,null,null,null,null,null,null,null,null,null,null,"時",null,"分","まで"]
[null,null,null,null,null,null,null,"令和",null,null,"年",null,"月",null,"日",{"$f":"IFERROR(TEXT(DATE($AE$2,$L$27,$N$27),\"aaa\"),\"\")","v":"木"},"曜日",null,null,"時",null,"分","～"]
[null,null,null,null,null,null,null,null,null,null,null,null,null,null,null,null,null,null,null,"時",null,"分","まで"]
[null,null,null,null,null,null,null,"令和",null,null,"年",null,"月",null,"日",{"$f":"IFERROR(TEXT(DATE($AE$2,$L$29,$N$29),\"aaa\"),\"\")","v":"木"},"曜日",null,null,"時",null,"分","～"]
[null,null,null,null,null,null,null,null,null,null,null,null,null,null,null,null,null,null,null,"時",null,"分","まで"]
["利用希望施設区分\n（チェックを入れる）"]
["利　用　料\n\n※この欄は施設が\n記入します。",null,null,null,null,null,null,"利用施設",null,null,null,null,"利用時間",null,null,null,null,"冷暖房利用",null,null,null,null,"利用料　合計"]
[null,null,null,null,null,null,null,null,null,null,null,null,"＠200円/1ｈ",null,null,null,null,"＠100円/1ｈ"]
[null,null,null,null,null,null,null,null,null,null,null,null,"時間　",null,null,null,null,"時間　",null,null,null,null,"円　"]
[null,null,null,null,null,null,null,null,null,null,null,null,"円　",null,null,null,null,"円　"]
[null,null,null,null,null,null,null,null,null,null,null,null,"時間　",null,null,null,null,"時間　",null,null,null,null,"円　"]
[null,null,null,null,null,null,null,null,null,null,null,null,"円　",null,null,null,null,"円　"]
[null,null,null,null,null,null,null,null,null,null,null,null,"時間　",null,null,null,null,"時間　",null,null,null,null,"円　"]
[null,null,null,null,null,null,null,null,null,null,null,null,"円　",null,null,null,null,"円　"]
[null,null,null,null,null,null,null,null,null,null,null,null,"時間　",null,null,null,null,"時間　",null,null,null,null,"円　"]
[null,null,null,null,null,null,null,null,null,null,null,null,"円　",null,null,null,null,"円　"]
["◎ 下の①～④を確認の上、支払い方法にチェックを入れてください。"]
["　※①個人での利用及び３月の利用（３月中に振込ができる場合を除く）は、基本的に現金でお願いします。　\n　※②振込手数料は利用者の負担となります。（一括振込可）　　　　③退所日から２週間以内での振り込みをお願いします。\n　※④団体名以外で振り込まれる場合は、振込名をお書きください。　　　　　　　　　　　　振込名（　　　　　　　　　　　　　　　　　　　　　　　　　　　　）"]
[]
["【備考】\n １．申請書類は、ご利用日の１ヶ月前までにご提出ください。\n　　 期日を過ぎた場合、利用ができなくなる可能性があります。\n ２．申請に当たっては、別紙⑤誓約書の内容を確認の上、□に レ（チェック）をご記入ください。\n　　    当自然の家では、事業全般から暴力団体を排除するため、利用申請者に暴力団でない旨の誓約をお願いしています。\n　　　　なお、内容確認のために佐賀県警察本部へ照会を行う場合があります。また、営利・布教・政治活動を目的とした\n　　　　利用はできません。\n ３． この様式に記載された個人情報は、本事業及び別紙の誓約事項の確認のみに使用します。"]
[]
[]
[]
[]
[]
[false]
[false]

{"sheet":"②利用者名簿","index":1,"n_rows":938,"n_cols":41,"rows_kept":938,"cut":false,"hidden":false,"merged":[[44,10,44,15],[34,11,34,15],[35,11,35,15],[36,11,36,15],[37,11,37,15],[38,11,38,15],[39,11,39,15],[40,11,40,15],[41,11,41,15],[42,11,42,15],[26,11,26,15],[27,11,27,15],[28,11,28,15],[29,11,29,15],[30,11,30,15],[31,11,31,15],[32,11,32,15],[33,11,33,15],[43,11,43,15],[42,18,42,19],[43,18,43,19],[4,11,4,15],[5,11,5,15],[6,11,6,15],[7,11,7,15],[8,11,8,15],[9,11,9,15],[10,11,10,15],[11,11,11,15],[12,11,12,15],[13,11,13,15],[14,11,14,15],[15,11,15,15],[16,11,16,15],[17,11,17,15],[18,11,18,15],[19,11,19,15],[20,11,20,15],[21,11,21,15],[22,11,22,15],[23,11,23,15],[24,11,24,15],[25,11,25,15],[33,18,33,19],[34,18,34,19],[35,18,35,19],[36,18,36,19],[37,18,37,19],[38,18,38,19],[39,18,39,19],[40,18,40,19],[41,18,41,19],[2,11,3,15],[2,16,2,17],[2,18,3,19],[4,18,4,19],[5,18,5,19],[6,18,6,19],[7,18,7,19],[8,18,8,19],[9,18,9,19],[10,18,10,19],[11,18,11,19],[12,18,12,19],[13,18,13,19],[14,18,14,19],[15,18,15,19],[16,18,16,19],[17,18,17,19],[18,18,18,19],[19,18,19,19],[20,18,20,19],[21,18,21,19],[22,18,22,19],[35,1,35,5],[36,1,36,5],[37,1,37,5],[38,1,38,5],[39,1,39,5],[30,8,30,9],[31,8,31,9],[32,8,32,9],[33,8,33,9],[34,8,34,9],[23,18,23,19],[24,18,24,19],[25,18,25,19],[26,18,26,19],[27,18,27,19],[28,18,28,19],[29,18,29,19],[30,18,30,19],[31,18,31,19],[32,18,32,19],[26,1,26,5],[27,1,27,5],[28,1,28,5],[29,1,29,5],[30,1,30,5],[31,1,31,5],[32,1,32,5],[33,1,33,5],[34,1,34,5],[17,1,17,5],[18,1,18,5],[19,1,19,5],[20,1,20,5],[21,1,21,5],[22,1,22,5],[23,1,23,5],[24,1,24,5],[25,1,25,5],[26,8,26,9],[27,8,27,9],[28,8,28,9],[29,8,29,9],[17,8,17,9],[18,8,18,9],[19,8,19,9],[20,8,20,9],[21,8,21,9],[22,8,22,9],[23,8,23,9],[24,8,24,9],[25,8,25,9],[13,1,13,5],[14,1,14,5],[15,1,15,5],[16,1,16,5],[2,10,3,10],[2,1,3,5],[4,1,4,5],[5,1,5,5],[6,1,6,5],[2,8,3,9],[4,8,4,9],[5,8,5,9],[6,8,6,9],[7,8,7,9],[8,8,8,9],[0,0,1,8],[0,9,0,10],[1,9,1,10],[47,4,48,5],[47,7,47,8],[45,9,62,10],[0,11,0,19],[1,11,1,19],[2,0,3,0],[2,6,2,7],[9,8,9,9],[10,8,10,9],[11,8,11,9],[12,8,12,9],[13,8,13,9],[14,8,14,9],[15,8,15,9],[16,8,16,9],[7,1,7,5],[8,1,8,5],[9,1,9,5],[10,1,10,5],[11,1,11,5],[12,1,12,5],[63,0,63,1],[53,4,54,5],[61,4,62,5],[45,4,46,5],[35,8,35,9],[36,8,36,9],[37,8,37,9],[38,8,38,9],[39,8,39,9],[40,8,40,9],[41,8,41,9],[42,8,42,9],[43,8,43,9],[40,1,40,5],[41,1,41,5],[42,1,42,5],[43,1,43,5],[45,21,46,21],[59,4,60,5],[59,7,59,8],[60,7,60,8],[45,1,62,3],[53,7,53,8],[54,7,54,8],[55,4,56,5],[55,7,55,8],[56,7,56,8],[57,4,58,5],[57,7,57,8],[58,7,58,8],[48,7,48,8],[49,4,50,5],[49,7,49,8],[50,7,50,8],[51,4,52,5],[51,7,51,8],[52,7,52,8],[45,7,45,8],[46,7,46,8],[61,7,61,8],[62,7,62,8]]}
["利用者名簿",null,null,null,null,null,null,null,null,"団体名",null,{"$f":"①利用許可書!R7","v":0}]
[null,null,null,null,null,null,null,null,null,"利用日",null,{"$f":"\"令和\"&①利用許可書!$J$25&\"年\"&①利用許可書!$L$25&\"月\"&①利用許可書!$N$25&\"日\"","v":"令和年月日"}]
["番","氏　　　名",null,null,null,null,"性別",null,"分　類",null,"番","氏　　　名",null,null,null,null,"性別",null,"分　類",null,null,null,null,null,null,null,null,null,null,null,null,null,null,null,"未就学(0-2歳児)"]
[null,null,null,null,null,null,"男","女",null,null,null,null,null,null,null,null,"男","女",null,null,null,"男","女","減免","１利","２利","３利","４利","１泊","２泊","３泊","４泊","利用数","泊数","未就学(3-6歳児)"]
[1,null,null,null,null,null,null,null,null,null,41,null,null,null,null,null,null,null,null,null,null,false,false,false,false,false,false,false,false,false,false,false,{"$f":"COUNTIF(Y5:AB5,\"TRUE\")","v":0},{"$f":"COUNTIF(AC5:AF5,TRUE)","v":0},"小学生"]
[2,null,null,null,null,null,null,null,null,null,42,null,null,null,null,null,null,null,null,null,null,false,false,false,false,false,false,false,false,false,false,false,{"$f":"COUNTIF(Y6:AB6,\"TRUE\")","v":0},{"$f":"COUNTIF(AC6:AF6,TRUE)","v":0},"中学生",null,null,null,null,null,"　"]
[3,null,null,null,null,null,null,null,null,null,43,null,null,null,null,null,null,null,null,null,null,false,false,false,false,false,false,false,false,false,false,false,0,0,"高校生"]
[4,null,null,null,null,null,null,null,null,null,44,null,null,null,null,null,null,null,null,null,null,false,false,false,false,false,false,false,false,false,false,false,0,0,"大学生"]
[5,null,null,null,null,null,null,null,null,null,45,null,null,null,null,null,null,null,null,null,null,false,false,false,false,true,false,false,false,false,false,false,1,0,"大　人",null,null,null,"２泊毎の"]
[6,null,null,null,null,null,null,null,null,null,46,null,null,null,null,null,null,null,null,null,null,false,false,true,false,false,false,false,false,false,false,false,0,0,"教職員等",null,"分類メニュー","一泊料金","寝具代"]
[7,null,null,null,null,null,null,null,null,null,47,null,null,null,null,null,null,null,null,null,null,false,false,false,false,false,false,false,false,false,false,false,0,0]
[8,null,null,null,null,null,null,null,null,null,48,null,null,null,null,null,null,null,null,null,null,false,false,false,false,false,false,false,false,false,false,false,0,0]
[9,null,null,null,null,null,null,null,null,null,49,null,null,null,null,null,null,null,{"$f":"AG13","v":0},null,null,false,false,false,false,false,false,false,false,false,false,false,0,0]
[10,null,null,null,null,null,null,null,null,null,50,null,null,null,null,null,null,null,0,null,null,false,false,false,false,false,false,false,false,false,false,false,0,0]
[11,null,null,null,null,null,null,null,null,null,51,null,null,null,null,null,null,null,0,null,null,false,false,false,false,false,false,false,false,false,false,false,0,0]
[12,null,null,null,null,null,null,null,null,null,52,null,null,null,null,null,null,null,0,null,null,false,false,false,false,false,false,false,false,false,false,false,0,0]
[13,null,null,null,null,null,null,null,null,null,53,null,null,null,null,null,null,null,0,null,null,false,false,false,false,false,false,false,false,false,false,false,0,0]
[14,null,null,null,null,null,null,null,null,null,54,null,null,null,null,null,null,null,0,null,null,false,false,false,false,false,false,false,false,false,false,false,0,0]
[15,null,null,null,null,null,null,null,null,null,55,null,null,null,null,null,null,null,0,null,null,false,false,false,false,false,false,false,false,false,false,false,0,0]
[16,null,null,null,null,null,null,null,null,null,56,null,null,null,null,null,null,null,0,null,null,false,false,false,false,false,false,false,false,false,false,false,0,0]
[17,null,null,null,null,null,null,null,null,null,57,null,null,null,null,null,null,null,0,null,null,false,false,false,false,false,false,false,false,false,false,false,0,0]
[18,null,null,null,null,null,null,null,null,null,58,null,null,null,null,null,null,null,0,null,null,false,false,false,false,false,false,false,false,false,false,false,0,0]
[19,null,null,null,null,null,null,null,null,null,59,null,null,null,null,null,null,null,0,null,null,false,false,false,false,false,false,false,false,false,false,false,0,0]
[20,null,null,null,null,null,null,null,null,null,60,null,null,null,null,null,null,null,0,null,null,false,false,false,false,false,false,false,false,false,false,false,0,0]
[21,null,null,null,null,null,null,null,null,null,61,null,null,null,null,null,null,null,0,null,null,false,false,false,false,false,false,false,false,false,false,false,0,0]
[22,null,null,null,null,null,null,null,null,null,62,null,null,null,null,null,null,null,0,null,null,false,false,false,false,false,false,false,false,false,false,false,0,0]
[23,null,null,null,null,null,null,null,null,null,63,null,null,null,null,null,null,null,0,null,null,false,false,false,false,false,false,false,false,false,false,false,0,0]
[24,null,null,null,null,null,null,null,null,null,64,null,null,null,null,null,null,null,0,null,null,false,false,false,false,false,false,false,false,false,false,false,0,0]
[25,null,null,null,null,null,null,null,null,null,65,null,null,null,null,null,null,null,0,null,null,false,false,false,false,false,false,false,false,false,false,false,0,0]
[26,null,null,null,null,null,null,null,null,null,66,null,null,null,null,null,null,null,0,null,null,false,false,false,false,false,false,false,false,false,false,false,0,0]
[27,null,null,null,null,null,null,null,null,null,67,null,null,null,null,null,null,null,0,null,null,false,false,false,false,false,false,false,false,false,false,false,0,0]
[28,null,null,null,null,null,null,null,null,null,68,null,null,null,null,null,null,null,0,null,null,false,false,false,false,false,false,false,false,false,false,false,0,0]
[29,null,null,null,null,null,null,null,null,null,69,null,null,null,null,null,null,null,0,null,null,false,false,false,false,false,false,false,false,false,false,false,0,0]
[30,null,null,null,null,null,null,null,null,null,70,null,null,null,null,null,null,null,0,null,null,false,false,false,false,false,false,false,false,false,false,false,0,0]
[31,null,null,null,null,null,null,null,null,null,71,null,null,null,null,null,null,null,0,null,null,false,false,false,false,false,false,false,false,false,false,false,0,0]
[32,null,null,null,null,null,null,null,null,null,72,null,null,null,null,null,null,null,0,null,null,false,false,false,false,false,false,false,false,false,false,false,0,0]
[33,null,null,null,null,null,null,null,null,null,73,null,null,null,null,null,null,null,0,null,null,false,false,false,false,false,false,false,false,false,false,false,0,0]
[34,null,null,null,null,null,null,null,null,null,74,null,null,null,null,null,null,null,0,null,null,false,false,false,false,false,false,false,false,false,false,false,0,0]
[35,null,null,null,null,null,null,null,null,null,75,null,null,null,null,null,null,null,0,null,null,false,false,false,false,false,false,false,false,false,false,false,0,0]
[36,null,null,null,null,null,null,null,null,null,76,null,null,null,null,null,null,null,0,null,null,false,false,false,false,false,false,false,false,false,false,false,0,0]
[37,null,null,null,null,null,null,null,null,null,77,null,null,null,null,null,null,null,0,null,null,false,false,false,false,false,false,false,false,false,false,false,0,0]
[38,null,null,null,null,null,null,null,null,null,78,null,null,null,null,null,null,null,0,null,null,false,false,false,false,false,false,false,false,false,false,false,0,0]
[39,null,null,null,null,null,null,null,null,null,79,null,null,null,null,null,null,null,0,null,null,false,false,false,false,false,false,false,false,false,false,false,0,0]
[40,null,null,null,null,null,null,null,null,null,80,null,null,null,null,null,null,null,0,null,null,false,false,false,false,false,false,false,false,false,false,false,0,0]
[null,null,null,null,null,null,null,null,null,null,"合　　　　計",null,null,null,null,null,null,null,{"$f":"Q45+R45","v":0}]
[null,"\n実利用者数",null,null,"３歳未満",null,"男",{"$f":"COUNTIFS($V$5:$V$44,\"true\",$I$5:$I$44,\"未就学(0-2歳児)\")","v":0},null,"使用・\n宿泊者\n合　計",null,{"$f":"COUNTIFS($V$5:$V$44,\"true\",$Y$5:$Y$44,\"true\",$I$5:$I$44,\"未就学(0-2歳児)\")","v":0},{"$f":"COUNTIFS($V$5:$V$44,\"true\",$AC$5:$AC$44,\"TRUE\",$I$5:$I$44,\"未就学(0-2歳児)\")","v":0},{"$f":"COUNTIFS($V$5:$V$44,\"true\",$Z$5:$Z$44,\"TRUE\",$I$5:$I$44,\"未就学(0-2歳児)\")","v":0},{"$f":"COUNTIFS($V$5:$V$44,\"true\",$AD$5:$AD$44,\"TRUE\",$I$5:$I$44,\"未就学(0-2歳児)\")","v":0},{"$f":"COUNTIFS($V$5:$V$44,\"true\",$AA$5:$AA$44,\"TRUE\",$I$5:$I$44,\"未就学(0-2歳児)\")","v":0},{"$f":"COUNTIFS($V$5:$V$44,\"true\",$AE$5:$AE$44,\"TRUE\",$I$5:$I$44,\"未就学(0-2歳児)\")","v":0},{"$f":"COUNTIFS($V$5:$V$44,\"true\",$AB$5:$AB$44,\"TRUE\",$I$5:$I$44,\"未就学(0-2歳児)\")","v":0},{"$f":"COUNTIFS($V$5:$V$44,\"true\",$AF$5:$AF$44,\"TRUE\",$I$5:$I$44,\"未就学(0-2歳児)\")","v":0},{"$f":"L46+N46+P46+R46","v":0}]
[null,null,null,null,null,null,"女",{"$f":"COUNTIFS($W$5:$W$44,\"true\",$I$5:$I$44,\"未就学(0-2歳児)\")","v":0},null,null,null,{"$f":"COUNTIFS($W$5:$W$44,\"true\",$Y$5:$Y$44,\"TRUE\",$I$5:$I$44,\"未就学(0-2歳児)\")","v":0},{"$f":"COUNTIFS($W$5:$W$44,\"true\",$AC$5:$AC$44,\"TRUE\",$I$5:$I$44,\"未就学(0-2歳児)\")","v":0},{"$f":"COUNTIFS($W$5:$W$44,\"true\",$Z$5:$Z$44,\"TRUE\",$I$5:$I$44,\"未就学(0-2歳児)\")","v":0},{"$f":"COUNTIFS($W$5:$W$44,\"true\",$AD$5:$AD$44,\"TRUE\",$I$5:$I$44,\"未就学(0-2歳児)\")","v":0},{"$f":"COUNTIFS($W$5:$W$44,\"true\",$AA$5:$AA$44,\"TRUE\",$I$5:$I$44,\"未就学(0-2歳児)\")","v":0},{"$f":"COUNTIFS($W$5:$W$44,\"true\",$AE$5:$AE$44,\"TRUE\",$I$5:$I$44,\"未就学(0-2歳児)\")","v":0},{"$f":"COUNTIFS($W$5:$W$44,\"true\",$AB$5:$AB$44,\"TRUE\",$I$5:$I$44,\"未就学(0-2歳児)\")","v":0},{"$f":"COUNTIFS($W$5:$W$44,\"true\",$AF$5:$AF$44,\"TRUE\",$I$5:$I$44,\"未就学(0-2歳児)\")","v":0},{"$f":"L47+N47+P47+R47","v":0}]
[null,null,null,null,"３歳以上",null,"男",{"$f":"COUNTIFS($V$5:$V$44,\"true\",$I$5:$I$44,\"未就学(3-6歳児)\")","v":0},null,null,null,{"$f":"COUNTIFS($V$5:$V$44,\"true\",$Y$5:$Y$44,\"TRUE\",$I$5:$I$44,\"未就学(3-6歳児)\")","v":0},{"$f":"COUNTIFS($V$5:$V$44,\"true\",$AC$5:$AC$44,\"TRUE\",$I$5:$I$44,\"未就学(3-6歳児)\")","v":0},{"$f":"COUNTIFS($V$5:$V$44,\"true\",$Z$5:$Z$44,\"TRUE\",$I$5:$I$44,\"未就学(3-6歳児)\")","v":0},{"$f":"COUNTIFS($V$5:$V$44,\"true\",$AD$5:$AD$44,\"TRUE\",$I$5:$I$44,\"未就学(3-6歳児)\")","v":0},{"$f":"COUNTIFS($V$5:$V$44,\"true\",$AA$5:$AA$44,\"TRUE\",$I$5:$I$44,\"未就学(3-6歳児)\")","v":0},{"$f":"COUNTIFS($V$5:$V$44,\"true\",$AE$5:$AE$44,\"TRUE\",$I$5:$I$44,\"未就学(3-6歳児)\")","v":0},{"$f":"COUNTIFS($V$5:$V$44,\"true\",$AB$5:$AB$44,\"TRUE\",$I$5:$I$44,\"未就学(3-6歳児)\")","v":0},{"$f":"COUNTIFS($V$5:$V$44,\"true\",$AF$5:$AF$44,\"TRUE\",$I$5:$I$44,\"未就学(3-6歳児)\")","v":0},{"$f":"L48+N48+P48+R48","v":0}]
[null,null,null,null,null,null,"女",{"$f":"COUNTIFS($W$5:$W$44,\"true\",$I$5:$I$44,\"未就学(3-6歳児)\")","v":0},null,null,null,{"$f":"COUNTIFS($W$5:$W$44,\"true\",$Y$5:$Y$44,\"TRUE\",$I$5:$I$44,\"未就学(3-6歳児)\")","v":0},{"$f":"COUNTIFS($W$5:$W$44,\"true\",$AC$5:$AC$44,\"TRUE\",$I$5:$I$44,\"未就学(3-6歳児)\")","v":0},{"$f":"COUNTIFS($W$5:$W$44,\"true\",$Z$5:$Z$44,\"TRUE\",$I$5:$I$44,\"未就学(3-6歳児)\")","v":0},{"$f":"COUNTIFS($W$5:$W$44,\"true\",$AD$5:$AD$44,\"TRUE\",$I$5:$I$44,\"未就学(3-6歳児)\")","v":0},{"$f":"COUNTIFS($W$5:$W$44,\"true\",$AA$5:$AA$44,\"TRUE\",$I$5:$I$44,\"未就学(3-6歳児)\")","v":0},{"$f":"COUNTIFS($W$5:$W$44,\"true\",$AE$5:$AE$44,\"TRUE\",$I$5:$I$44,\"未就学(3-6歳児)\")","v":0},{"$f":"COUNTIFS($W$5:$W$44,\"true\",$AB$5:$AB$44,\"TRUE\",$I$5:$I$44,\"未就学(3-6歳児)\")","v":0},{"$f":"COUNTIFS($W$5:$W$44,\"true\",$AF$5:$AF$44,\"TRUE\",$I$5:$I$44,\"未就学(3-6歳児)\")","v":0},0]
[null,null,null,null,"小学生",null,"男",{"$f":"COUNTIFS($V$5:$V$44,\"true\",$I$5:$I$44,\"小学生\")","v":0},null,null,null,{"$f":"COUNTIFS($V$5:$V$44,\"true\",$Y$5:$Y$44,\"TRUE\",$I$5:$I$44,\"小学生\")","v":0},{"$f":"COUNTIFS($V$5:$V$44,\"true\",$AC$5:$AC$44,\"TRUE\",$I$5:$I$44,\"小学生\")","v":0},{"$f":"COUNTIFS($V$5:$V$44,\"true\",$Z$5:$Z$44,\"TRUE\",$I$5:$I$44,\"小学生\")","v":0},{"$f":"COUNTIFS($V$5:$V$44,\"true\",$AD$5:$AD$44,\"TRUE\",$I$5:$I$44,\"小学生\")","v":0},{"$f":"COUNTIFS($V$5:$V$44,\"true\",$AA$5:$AA$44,\"TRUE\",$I$5:$I$44,\"小学生\")","v":0},{"$f":"COUNTIFS($V$5:$V$44,\"true\",$AE$5:$AE$44,\"TRUE\",$I$5:$I$44,\"小学生\")","v":0},{"$f":"COUNTIFS($V$5:$V$44,\"true\",$AB$5:$AB$44,\"TRUE\",$I$5:$I$44,\"小学生\")","v":0},{"$f":"COUNTIFS($V$5:$V$44,\"true\",$AF$5:$AF$44,\"TRUE\",$I$5:$I$44,\"小学生\")","v":0},0]
[null,null,null,null,null,null,"女",{"$f":"COUNTIFS($W$5:$W$44,\"true\",$I$5:$I$44,\"小学生\")","v":0},null,null,null,{"$f":"COUNTIFS($W$5:$W$44,\"true\",$Y$5:$Y$44,\"TRUE\",$I$5:$I$44,\"小学生\")","v":0},{"$f":"COUNTIFS($W$5:$W$44,\"true\",$AC$5:$AC$44,\"TRUE\",$I$5:$I$44,\"小学生\")","v":0},{"$f":"COUNTIFS($W$5:$W$44,\"true\",$Z$5:$Z$44,\"TRUE\",$I$5:$I$44,\"小学生\")","v":0},{"$f":"COUNTIFS($W$5:$W$44,\"true\",$AD$5:$AD$44,\"TRUE\",$I$5:$I$44,\"小学生\")","v":0},{"$f":"COUNTIFS($W$5:$W$44,\"true\",$AA$5:$AA$44,\"TRUE\",$I$5:$I$44,\"小学生\")","v":0},{"$f":"COUNTIFS($W$5:$W$44,\"true\",$AE$5:$AE$44,\"TRUE\",$I$5:$I$44,\"小学生\")","v":0},{"$f":"COUNTIFS($W$5:$W$44,\"true\",$AB$5:$AB$44,\"TRUE\",$I$5:$I$44,\"小学生\")","v":0},{"$f":"COUNTIFS($W$5:$W$44,\"true\",$AF$5:$AF$44,\"TRUE\",$I$5:$I$44,\"小学生\")","v":0},0]
[null,null,null,null,"中学生",null,"男",{"$f":"COUNTIFS($V$5:$V$44,\"true\",$I$5:$I$44,\"中学生\")","v":0},null,null,null,{"$f":"COUNTIFS($V$5:$V$44,\"true\",$Y$5:$Y$44,\"TRUE\",$I$5:$I$44,\"中学生\")","v":0},{"$f":"COUNTIFS($V$5:$V$44,\"true\",$AC$5:$AC$44,\"TRUE\",$I$5:$I$44,\"中学生\")","v":0},{"$f":"COUNTIFS($V$5:$V$44,\"true\",$Z$5:$Z$44,\"TRUE\",$I$5:$I$44,\"中学生\")","v":0},{"$f":"COUNTIFS($V$5:$V$44,\"true\",$AD$5:$AD$44,\"TRUE\",$I$5:$I$44,\"中学生\")","v":0},{"$f":"COUNTIFS($V$5:$V$44,\"true\",$AA$5:$AA$44,\"TRUE\",$I$5:$I$44,\"中学生\")","v":0},{"$f":"COUNTIFS($V$5:$V$44,\"true\",$AE$5:$AE$44,\"TRUE\",$I$5:$I$44,\"中学生\")","v":0},{"$f":"COUNTIFS($V$5:$V$44,\"true\",$AB$5:$AB$44,\"TRUE\",$I$5:$I$44,\"中学生\")","v":0},{"$f":"COUNTIFS($V$5:$V$44,\"true\",$AF$5:$AF$44,\"TRUE\",$I$5:$I$44,\"中学生\")","v":0},0]
[null,null,null,null,null,null,"女",{"$f":"COUNTIFS($W$5:$W$44,\"true\",$I$5:$I$44,\"中学生\")","v":0},null,null,null,{"$f":"COUNTIFS($W$5:$W$44,\"true\",$Y$5:$Y$44,\"TRUE\",$I$5:$I$44,\"中学生\")","v":0},{"$f":"COUNTIFS($W$5:$W$44,\"true\",$AC$5:$AC$44,\"TRUE\",$I$5:$I$44,\"中学生\")","v":0},{"$f":"COUNTIFS($W$5:$W$44,\"true\",$Z$5:$Z$44,\"TRUE\",$I$5:$I$44,\"中学生\")","v":0},{"$f":"COUNTIFS($W$5:$W$44,\"true\",$AD$5:$AD$44,\"TRUE\",$I$5:$I$44,\"中学生\")","v":0},{"$f":"COUNTIFS($W$5:$W$44,\"true\",$AA$5:$AA$44,\"TRUE\",$I$5:$I$44,\"中学生\")","v":0},{"$f":"COUNTIFS($W$5:$W$44,\"true\",$AE$5:$AE$44,\"TRUE\",$I$5:$I$44,\"中学生\")","v":0},{"$f":"COUNTIFS($W$5:$W$44,\"true\",$AB$5:$AB$44,\"TRUE\",$I$5:$I$44,\"中学生\")","v":0},{"$f":"COUNTIFS($W$5:$W$44,\"true\",$AF$5:$AF$44,\"TRUE\",$I$5:$I$44,\"中学生\")","v":0},0]
[null,null,null,null,"高校生",null,"男",{"$f":"COUNTIFS($V$5:$V$44,\"true\",$I$5:$I$44,\"高校生\")","v":0},null,null,null,{"$f":"COUNTIFS($V$5:$V$44,\"true\",$Y$5:$Y$44,\"TRUE\",$I$5:$I$44,\"高校生\")","v":0},{"$f":"COUNTIFS($V$5:$V$44,\"true\",$AC$5:$AC$44,\"TRUE\",$I$5:$I$44,\"高校生\")","v":0},{"$f":"COUNTIFS($V$5:$V$44,\"true\",$Z$5:$Z$44,\"TRUE\",$I$5:$I$44,\"高校生\")","v":0},{"$f":"COUNTIFS($V$5:$V$44,\"true\",$AD$5:$AD$44,\"TRUE\",$I$5:$I$44,\"高校生\")","v":0},{"$f":"COUNTIFS($V$5:$V$44,\"true\",$AA$5:$AA$44,\"TRUE\",$I$5:$I$44,\"高校生\")","v":0},{"$f":"COUNTIFS($V$5:$V$44,\"true\",$AE$5:$AE$44,\"TRUE\",$I$5:$I$44,\"高校生\")","v":0},{"$f":"COUNTIFS($V$5:$V$44,\"true\",$AB$5:$AB$44,\"TRUE\",$I$5:$I$44,\"高校生\")","v":0},{"$f":"COUNTIFS($V$5:$V$44,\"true\",$AF$5:$AF$44,\"TRUE\",$I$5:$I$44,\"高校生\")","v":0},0]
[null,null,null,null,null,null,"女",{"$f":"COUNTIFS($W$5:$W$44,\"true\",$I$5:$I$44,\"高校生\")","v":0},null,null,null,{"$f":"COUNTIFS($W$5:$W$44,\"true\",$Y$5:$Y$44,\"TRUE\",$I$5:$I$44,\"高校生\")","v":0},{"$f":"COUNTIFS($W$5:$W$44,\"true\",$AC$5:$AC$44,\"TRUE\",$I$5:$I$44,\"高校生\")","v":0},{"$f":"COUNTIFS($W$5:$W$44,\"true\",$Z$5:$Z$44,\"TRUE\",$I$5:$I$44,\"高校生\")","v":0},{"$f":"COUNTIFS($W$5:$W$44,\"true\",$AD$5:$AD$44,\"TRUE\",$I$5:$I$44,\"高校生\")","v":0},{"$f":"COUNTIFS($W$5:$W$44,\"true\",$AA$5:$AA$44,\"TRUE\",$I$5:$I$44,\"高校生\")","v":0},{"$f":"COUNTIFS($W$5:$W$44,\"true\",$AE$5:$AE$44,\"TRUE\",$I$5:$I$44,\"高校生\")","v":0},{"$f":"COUNTIFS($W$5:$W$44,\"true\",$AB$5:$AB$44,\"TRUE\",$I$5:$I$44,\"高校生\")","v":0},{"$f":"COUNTIFS($W$5:$W$44,\"true\",$AF$5:$AF$44,\"TRUE\",$I$5:$I$44,\"高校生\")","v":0},0]
[null,null,null,null,"大学生",null,"男",{"$f":"COUNTIFS($V$5:$V$44,\"true\",$I$5:$I$44,\"大学生\")","v":0},null,null,null,{"$f":"COUNTIFS($V$5:$V$44,\"true\",$Y$5:$Y$44,\"TRUE\",$I$5:$I$44,\"大学生\")","v":0},{"$f":"COUNTIFS($V$5:$V$44,\"true\",$AC$5:$AC$44,\"TRUE\",$I$5:$I$44,\"大学生\")","v":0},{"$f":"COUNTIFS($V$5:$V$44,\"true\",$Z$5:$Z$44,\"TRUE\",$I$5:$I$44,\"大学生\")","v":0},{"$f":"COUNTIFS($V$5:$V$44,\"true\",$AD$5:$AD$44,\"TRUE\",$I$5:$I$44,\"大学生\")","v":0},{"$f":"COUNTIFS($V$5:$V$44,\"true\",$AA$5:$AA$44,\"TRUE\",$I$5:$I$44,\"大学生\")","v":0},{"$f":"COUNTIFS($V$5:$V$44,\"true\",$AE$5:$AE$44,\"TRUE\",$I$5:$I$44,\"大学生\")","v":0},{"$f":"COUNTIFS($V$5:$V$44,\"true\",$AB$5:$AB$44,\"TRUE\",$I$5:$I$44,\"大学生\")","v":0},{"$f":"COUNTIFS($V$5:$V$44,\"true\",$AF$5:$AF$44,\"TRUE\",$I$5:$I$44,\"大学生\")","v":0},0]
[null,null,null,null,null,null,"女",{"$f":"COUNTIFS($W$5:$W$44,\"true\",$I$5:$I$44,\"大学生\")","v":0},null,null,null,{"$f":"COUNTIFS($W$5:$W$44,\"true\",$Y$5:$Y$44,\"TRUE\",$I$5:$I$44,\"大学生\")","v":0},{"$f":"COUNTIFS($W$5:$W$44,\"true\",$AC$5:$AC$44,\"TRUE\",$I$5:$I$44,\"大学生\")","v":0},{"$f":"COUNTIFS($W$5:$W$44,\"true\",$Z$5:$Z$44,\"TRUE\",$I$5:$I$44,\"大学生\")","v":0},{"$f":"COUNTIFS($W$5:$W$44,\"true\",$AD$5:$AD$44,\"TRUE\",$I$5:$I$44,\"大学生\")","v":0},{"$f":"COUNTIFS($W$5:$W$44,\"true\",$AA$5:$AA$44,\"TRUE\",$I$5:$I$44,\"大学生\")","v":0},{"$f":"COUNTIFS($W$5:$W$44,\"true\",$AE$5:$AE$44,\"TRUE\",$I$5:$I$44,\"大学生\")","v":0},{"$f":"COUNTIFS($W$5:$W$44,\"true\",$AB$5:$AB$44,\"TRUE\",$I$5:$I$44,\"大学生\")","v":0},{"$f":"COUNTIFS($W$5:$W$44,\"true\",$AF$5:$AF$44,\"TRUE\",$I$5:$I$44,\"大学生\")","v":0},0]
[null,null,null,null,"大人",null,"男",{"$f":"COUNTIFS($V$5:$V$44,\"true\",$I$5:$I$44,\"大　人\")","v":0},null,null,null,{"$f":"COUNTIFS($V$5:$V$44,\"true\",$Y$5:$Y$44,\"TRUE\",$I$5:$I$44,\"大　人\")","v":0},{"$f":"COUNTIFS($V$5:$V$44,\"true\",$AC$5:$AC$44,\"TRUE\",$I$5:$I$44,\"大　人\")","v":0},{"$f":"COUNTIFS($V$5:$V$44,\"true\",$Z$5:$Z$44,\"TRUE\",$I$5:$I$44,\"大　人\")","v":0},{"$f":"COUNTIFS($V$5:$V$44,\"true\",$AD$5:$AD$44,\"TRUE\",$I$5:$I$44,\"大　人\")","v":0},{"$f":"COUNTIFS($V$5:$V$44,\"true\",$AA$5:$AA$44,\"TRUE\",$I$5:$I$44,\"大　人\")","v":0},{"$f":"COUNTIFS($V$5:$V$44,\"true\",$AE$5:$AE$44,\"TRUE\",$I$5:$I$44,\"大　人\")","v":0},{"$f":"COUNTIFS($V$5:$V$44,\"true\",$AB$5:$AB$44,\"TRUE\",$I$5:$I$44,\"大　人\")","v":0},{"$f":"COUNTIFS($V$5:$V$44,\"true\",$AF$5:$AF$44,\"TRUE\",$I$5:$I$44,\"大　人\")","v":0},0]
[null,null,null,null,null,null,"女",{"$f":"COUNTIFS($W$5:$W$44,\"true\",$I$5:$I$44,\"大　人\")","v":0},null,null,null,{"$f":"COUNTIFS($W$5:$W$44,\"true\",$Y$5:$Y$44,\"TRUE\",$I$5:$I$44,\"大　人\")","v":0},{"$f":"COUNTIFS($W$5:$W$44,\"true\",$AC$5:$AC$44,\"TRUE\",$I$5:$I$44,\"大　人\")","v":0},{"$f":"COUNTIFS($W$5:$W$44,\"true\",$Z$5:$Z$44,\"TRUE\",$I$5:$I$44,\"大　人\")","v":0},{"$f":"COUNTIFS($W$5:$W$44,\"true\",$AD$5:$AD$44,\"TRUE\",$I$5:$I$44,\"大　人\")","v":0},{"$f":"COUNTIFS($W$5:$W$44,\"true\",$AA$5:$AA$44,\"TRUE\",$I$5:$I$44,\"大　人\")","v":0},{"$f":"COUNTIFS($W$5:$W$44,\"true\",$AE$5:$AE$44,\"TRUE\",$I$5:$I$44,\"大　人\")","v":0},{"$f":"COUNTIFS($W$5:$W$44,\"true\",$AB$5:$AB$44,\"TRUE\",$I$5:$I$44,\"大　人\")","v":0},{"$f":"COUNTIFS($W$5:$W$44,\"true\",$AF$5:$AF$44,\"TRUE\",$I$5:$I$44,\"大　人\")","v":0},0]
[null,null,null,null,"教職員等",null,"男",{"$f":"COUNTIFS($V$5:$V$44,\"true\",$I$5:$I$44,\"教職員等\")","v":0},null,null,null,{"$f":"COUNTIFS($V$5:$V$44,\"true\",$Y$5:$Y$44,\"TRUE\",$I$5:$I$44,\"教職員等\")","v":0},{"$f":"COUNTIFS($V$5:$V$44,\"true\",$AC$5:$AC$44,\"TRUE\",$I$5:$I$44,\"教職員等\")","v":0},{"$f":"COUNTIFS($V$5:$V$44,\"true\",$Z$5:$Z$44,\"TRUE\",$I$5:$I$44,\"教職員等\")","v":0},{"$f":"COUNTIFS($V$5:$V$44,\"true\",$AD$5:$AD$44,\"TRUE\",$I$5:$I$44,\"教職員等\")","v":0},{"$f":"COUNTIFS($V$5:$V$44,\"true\",$AA$5:$AA$44,\"TRUE\",$I$5:$I$44,\"教職員等\")","v":0},{"$f":"COUNTIFS($V$5:$V$44,\"true\",$AE$5:$AE$44,\"TRUE\",$I$5:$I$44,\"教職員等\")","v":0},{"$f":"COUNTIFS($V$5:$V$44,\"true\",$AB$5:$AB$44,\"TRUE\",$I$5:$I$44,\"教職員等\")","v":0},{"$f":"COUNTIFS($V$5:$V$44,\"true\",$AF$5:$AF$44,\"TRUE\",$I$5:$I$44,\"教職員等\")","v":0},0]
[null,null,null,null,null,null,"女",{"$f":"COUNTIFS($W$5:$W$44,\"true\",$I$5:$I$44,\"教職員等\")","v":0},null,null,null,{"$f":"COUNTIFS($W$5:$W$44,\"true\",$Y$5:$Y$44,\"TRUE\",$I$5:$I$44,\"教職員等\")","v":0},{"$f":"COUNTIFS($W$5:$W$44,\"true\",$AC$5:$AC$44,\"TRUE\",$I$5:$I$44,\"教職員等\")","v":0},{"$f":"COUNTIFS($W$5:$W$44,\"true\",$Z$5:$Z$44,\"TRUE\",$I$5:$I$44,\"教職員等\")","v":0},{"$f":"COUNTIFS($W$5:$W$44,\"true\",$AD$5:$AD$44,\"TRUE\",$I$5:$I$44,\"教職員等\")","v":0},{"$f":"COUNTIFS($W$5:$W$44,\"true\",$AA$5:$AA$44,\"TRUE\",$I$5:$I$44,\"教職員等\")","v":0},{"$f":"COUNTIFS($W$5:$W$44,\"true\",$AE$5:$AE$44,\"TRUE\",$I$5:$I$44,\"教職員等\")","v":0},{"$f":"COUNTIFS($W$5:$W$44,\"true\",$AB$5:$AB$44,\"TRUE\",$I$5:$I$44,\"教職員等\")","v":0},{"$f":"COUNTIFS($W$5:$W$44,\"true\",$AF$5:$AF$44,\"TRUE\",$I$5:$I$44,\"教職員等\")","v":0},0]
[null,null,null,null,"合　計",null,"男",{"$f":"H46+H48+H50+H52+H54+H56+H58+H60","v":0},null,null,null,{"$f":"L46+L48+L50+L52+L54+L56+L58+L60","v":0},0,0,0,0,0,0,0,{"$f":"T46+T48+T50+T52+T54+T56+T58+T60","v":0}]
[null,null,null,null,null,null,"女",{"$f":"H47+H49+H51+H53+H55+H57+H59+H61","v":0},null,null,null,0,0,0,0,0,0,0,0,{"$f":"T47+T49+T51+T53+T55+T57+T59+T61","v":0}]
[]
[]
[]
[]
[]
[]
[]
[]
[]
[]
[]
[]
[]
[]
[]
[]
[]
[]
[]
[]
[]
[]
[]
[]
[]
[]
[]
[]
[]
[]
[]
[]
[]
[]
[]
[]
[]
[]
[]
[]
[]
[]
[]
[]
[]
[]
[]
[]
[]
[]
[]
[]
[]
[]
[]
[]
[]
[]
[]
[]
[]
[]
[]
[]
[]
[]
[]
[]
[]
[]
[]
[]
[]
[]
[]
[]
[]
[]
[]
[]
[]
[]
[]
[]
[]
[]
[]
[]
[]
[]
[]
[]
[]
[]
[]
[]
[]
[]
[]
[]
[]
[]
[]
[]
[]
[]
[]
[]
[]
[]
[]
[]
[]
[]
[]
[]
[]
[]
[]
[]
[]
[]
[]
[]
[]
[]
[]
[]
[]
[]
[]
[]
[]
[]
[]
[]
[]
[]
[]
[]
[]
[]
[]
[]
[]
[]
[]
[]
[]
[]
[]
[]
[]
[]
[]
[]
[]
[]
[]
[]
[]
[]
[]
[]
[]
[]
[]
[]
[]
[]
[]
[]
[]
[]
[]
[]
[]
[]
[]
[]
[]
[]
[]
[]
[]
[]
[]
[]
[]
[]
[]
[]
[]
[]
[]
[]
[]
[]
[]
[]
[]
[]
[]
[]
[]
[]
[]
[]
[]
[]
[]
[]
[]
[]
[]
[]
[]
[]
[]
[]
[]
[]
[]
[]
[]
[]
[]
[]
[]
[]
[]
[]
[]
[]
[]
[]
[]
[]
[]
[]
[]
[]
[]
[]
[]
[]
[]
[]
[]
[]
[]
[]
[]
[]
[]
[]
[]
[]
[]
[]
[]
[]
[]
[]
[]
[]
[]
[]
[]
[]
[]
[]
[]
[]
[]
[]
[]
[]
[]
[]
[]
[]
[]
[]
[]
[]
[]
[]
[]
[]
[]
[]
[]
[]
[]
[]
[]
[]
[]
[]
[]
[]
[]
[]
[]
[]
[]
[]
[]
[]
[]
[]
[]
[]
[]
[]
[]
[]
[]
[]
[]
[]
[]
[]
[]
[]
[]
[]
[]
[]
[]
[]
[]
[]
[]
[]
[]
[]
[]
[]
[]
[]
[]
[]
[]
[]
[]
[]
[]
[]
[]
[]
[]
[]
[]
[]
[]
[]
[]
[]
[]
[]
[]
[]
[]
[]
[]
[]
[]
[]
[]
[]
[]
[]
[]
[]
[]
[]
[]
[]
[]
[]
[]
[]
[]
[]
[]
[]
[]
[]
[]
[]
[]
[]
[]
[]
[]
[]
[]
[]
[]
[]
[]
[]
[]
[]
[]
[]
[]
[]
[]
[]
[]
[]
[]
[]
[]
[]
[]
[]
[]
[]
[]
[]
[]
[]
[]
[]
[]
[]
[]
[]
[]
[]
[]
[]
[]
[]
[]
[]
[]
[]
[]
[]
[]
[]
[]
[]
[]
[]
[]
[]
[]
[]
[]
[]
[]
[]
[]
[]
[]
[]
[]
[]
[]
[]
[]
[]
[]
[]
[]
[]
[]
[]
[]
[]
[]
[]
[]
[]
[]
[]
[]
[]
[]
[]
[]
[]
[]
[]
[]
[]
[]
[]
[]
[]
[]
[]
[]
[]
[]
[]
[]
[]
[]
[]
[]
[]
[]
[]
[]
[]
[]
[]
[]
[]
[]
[]
[]
[]
[]
[]
[]
[]
[]
[]
[]
[]
[]
[]
[]
[]
[]
[]
[]
[]
[]
[]
[]
[]
[]
[]
[]
[]
[]
[]
[]
[]
[]
[]
[]
[]
[]
[]
[]
[]
[]
[]
[]
[]
[]
[]
[]
[]
[]
[]
[]
[]
[]
[]
[]
[]
[]
[]
[]
[]
[]
[]
[]
[]
[]
[]
[]
[]
[]
[]
[]
[]
[]
[]
[]
[]
[]
[]
[]
[]
[]
[]
[]
[]
[]
[]
[]
[]
[]
[]
[]
[]
[]
[]
[]
[]
[]
[]
[]
[]
[]
[]
[]
[]
[]
[]
[]
[]
[]
[]
[]
[]
[]
[]
[]
[]
[]
[]
[]
[]
[]
[]
[]
[]
[]
[]
[]
[]
[]
[]
[]
[]
[]
[]
[]
[]
[]
[]
[]
[]
[]
[]
[]
[]
[]
[]
[]
[]
[]
[]
[]
[]
[]
[]
[]
[]
[]
[]
[]
[]
[]
[]
[]
[]
[]
[]
[]
[]
[]
[]
[]
[]
[]
[]
[]
[]
[]
[]
[]
[]
[]
[]
[]
[]
[]
[]
[]
[]
[]
[]
[]
[]
[]
[]
[]
[]
[]
[]
[]
[]
[]
[]
[]
[]
[]
[]
[]
[]
[]
[]
[]
[]
[]
[]
[]
[]
[]
[]
[]
[]
[]
[]
[]
[]
[]
[]
[]
[]
[]
[]
[]
[]
[]
[]
[]
[]
[]
[]
[]
[]
[]
[]
[]
[]
[]
[]
[]
[]
[]
[]
[]
[]
[]
[]
[]
[]
[]
[]
[]
[]
[]
[]
[]
[]
[]
[]
[]
[]
[]
[]
[]
[]
[]
[]
[]
[]
[]
[]
[]
[]
[]
[]
[]
[]
[]
[]
[]
[]
[]
[]
[]
[]
[]
[]
[]
[]
[]
[]
[]
[]
[]
[]
[]
[]
[]
[]
[]
[]
[]
[]
[]
[]
[]
[]
[]
[]
[]
[]
[]
[]
[]
[]
[]
[]
[]
[]
[]
[]
[]
[]
[]
[]
[]
[]
[]
[]
[]
[]
[]
[]
[]
[]
[]
[]
[]
[]
[]
[]
[]
[]
[]
[]
[]
[]
[]
[]
[]
[]
[null,null,null,null,null,null,null,null,null,null,null,null,null,null,null,null,null,null,null,null,null,null,null,true]

{"sheet":"③研修日程表","index":2,"n_rows":38,"n_cols":42,"rows_kept":38,"cut":false,"hidden":false,"merged":[[2,16,2,17],[2,18,2,19],[2,22,2,23],[2,24,2,25],[35,1,35,17],[2,3,2,5],[2,6,2,7],[2,8,2,9],[2,12,2,13],[2,14,2,15],[36,1,36,17],[24,0,25,0],[6,22,9,22],[6,24,9,24],[8,9,9,13],[10,1,17,1],[10,2,12,2],[14,2,16,2],[8,7,9,7],[18,2,20,2],[22,2,24,2],[32,0,33,0],[4,0,9,0],[4,1,4,2],[4,3,4,4],[8,8,9,8],[2,26,2,27],[4,5,4,6],[4,17,4,18],[4,19,4,20],[2,20,2,21],[2,10,2,11],[3,0,3,36],[4,27,4,28],[4,29,4,30],[4,35,4,36],[4,25,4,26],[4,23,4,24],[4,33,4,34],[4,21,4,22],[2,0,2,2],[4,7,4,8],[37,1,37,17],[34,18,34,36],[6,36,9,36],[34,0,34,16],[6,35,9,35],[6,14,9,15],[6,25,9,34],[6,16,9,21],[6,23,9,23],[26,1,33,1],[26,2,28,2],[30,2,32,2],[16,0,17,0],[18,1,25,1],[6,7,7,7],[6,8,7,13],[0,0,0,36],[1,0,1,2],[1,3,1,14],[1,15,1,17],[1,18,1,25],[1,26,1,28],[1,29,1,36],[4,31,4,32],[0,41,0,44],[35,18,37,36],[8,1,9,2],[8,4,9,4],[4,9,4,10],[6,1,7,2],[6,3,7,3],[6,4,7,4],[6,5,7,5],[6,6,7,6],[8,5,9,5],[8,6,9,6],[4,11,4,12],[4,13,4,14],[4,15,4,16]]}
["研　修　日　程　表",null,null,null,null,null,null,null,null,null,null,null,null,null,null,null,null,null,null,null,null,null,null,null,null,null,null,null,null,null,null,null,null,null,null,null,null,null,null,null,null,{"$f":"E3+2018","v":2018}]
["団体名",null,null,{"$f":"①利用許可書!R7","v":0},null,null,null,null,null,null,null,null,null,null,null,"責任者",null,null,{"$f":"①利用許可書!R10","v":0},null,null,null,null,null,null,null,"連絡先",null,null,{"$f":"①利用許可書!R11","v":0}]
["利用期間",null,null,"令和",null,null,{"$f":"①利用許可書!J25","v":0},null,"年",null,{"$f":"①利用許可書!L25","v":0},null,"月",null,{"$f":"①利用許可書!N25","v":0},null,"日",null,{"$f":"①利用許可書!P25","v":"木"},null,"曜日"]
["活動プログラム"]
["標準生活時間",6,null,7,null,8,null,9,null,10,null,11,null,12,null,13,null,14,null,15,null,16,null,17,null,18,null,19,null,20,null,21,null,22,null,23]
[]
[null,"4月\n～\n10月",null,"起　床","朝のつどい","朝　食","宿舎整理","移動・準備","活動1",null,null,null,null,null,"昼　食",null,"活動2",null,null,null,null,null,"代表者会議",null,"夕のつどい","夕食・入浴・活動3",null,null,null,null,null,null,null,null,null,"消　灯"]
[]
[null,"11月\n～\n3月",null,null,"起　床","朝のつどい","朝　食","宿舎整理","移動・準備","活動1"]
[]
["①","活動内容","☀"]
[{"$f":"①利用許可書!#REF!","v":{"$error":"#REF!"}}]
["月"]
[{"$f":"①利用許可書!M25","v":"月"},null,"場所"]
["日",null,"☂"]
[{"$f":"N3","v":0}]
["曜日"]
[null,null,"場所"]
["②","活動内容","☀"]
[{"$f":"①利用許可書!O25","v":"日"}]
["月"]
[{"$f":"①利用許可書!Q25","v":"曜日"},null,"場所"]
["日",null,"☂"]
[{"$f":"IFERROR(TEXT(DATE($AP$1,$A$20,$A$22),\"aaa\"),\"\")","v":""}]
["曜日"]
[null,null,"場所"]
["③","活動内容","☀"]
[{"$f":"①利用許可書!T25","v":"時"}]
["月"]
[{"$f":"①利用許可書!V25","v":"分"},null,"場所"]
["日",null,"☂"]
[{"$f":"IFERROR(TEXT(DATE($AP$1,$A$28,$A$30),\"aaa\"),\"\")","v":""}]
["曜日"]
[null,null,"場所"]
["利用に関する確認事項（希望する事項に☑お願いします）",null,null,null,null,null,null,null,null,null,null,null,null,null,null,null,null,null,"【備考・伝達事項】配慮が必要な事項等があればご記入ください。"]
[null,"校旗・団体旗を持参し、掲揚を行う。"]
[null,"入所式で、自然の家職員からの歓迎の挨拶を希望する。"]
[null,"退所式で、自然の家職員からのお別れの挨拶を希望する。"]

{"sheet":"④レストラン食事申込書 ","index":3,"n_rows":34,"n_cols":24,"rows_kept":34,"cut":false,"hidden":false,"merged":[[29,1,29,3],[29,10,29,11],[30,0,30,14],[31,0,31,14],[32,0,33,1],[32,2,33,4],[32,5,32,14],[33,5,33,14],[25,13,26,13],[25,14,26,14],[26,10,26,11],[27,2,27,3],[27,10,27,11],[28,2,28,3],[28,10,28,11],[23,10,23,12],[23,13,23,14],[24,1,24,3],[24,10,24,11],[25,1,28,1],[25,2,26,3],[25,4,25,5],[25,6,25,7],[25,8,25,9],[25,10,25,12],[20,0,28,0],[20,1,20,3],[20,10,20,11],[21,1,21,3],[21,10,21,11],[22,1,22,3],[22,10,22,11],[23,1,23,3],[23,4,23,5],[23,6,23,7],[16,13,17,13],[16,14,17,14],[16,15,17,22],[17,10,17,11],[18,2,18,3],[18,10,18,11],[18,15,24,23],[19,2,19,3],[19,10,19,11],[23,8,23,9],[16,1,19,1],[16,2,17,3],[16,4,16,5],[16,6,16,7],[16,8,16,9],[16,10,16,12],[14,6,14,7],[14,8,14,9],[14,10,14,12],[14,13,14,14],[15,1,15,3],[15,10,15,11],[11,0,19,0],[11,1,11,3],[11,10,11,11],[11,15,11,23],[12,1,12,3],[12,10,12,11],[13,1,13,3],[13,10,13,11],[14,1,14,3],[14,4,14,5],[9,4,9,5],[9,6,9,7],[9,8,9,9],[9,10,9,12],[9,13,9,14],[10,1,10,3],[10,10,10,11],[5,13,5,14],[6,0,10,0],[6,1,6,3],[6,10,6,11],[6,15,6,22],[7,1,7,3],[7,10,7,11],[8,1,8,3],[8,10,8,11],[9,1,9,3],[3,0,3,1],[3,2,3,6],[3,7,3,8],[3,9,3,14],[5,0,5,1],[5,2,5,3],[5,4,5,5],[5,6,5,7],[5,8,5,9],[5,10,5,12],[0,0,0,10],[1,0,1,1],[1,2,1,6],[1,7,1,8],[1,9,1,14],[2,0,2,1],[2,2,2,6],[2,7,2,8],[2,9,2,14]]}
["【レストラン食事申込書】※弁当申込は別紙にてご提出ください"]
["団 体 名",null,null,null,null,null,null,"食事担当者"]
["利 用 日",null,null,null,null,null,null,"電話番号"]
["食物アレルギー",null,"➄食物ｱﾚﾙｷﾞｰ事前確認票にご記入下さい。",null,null,null,null,"FAX番号"]
[]
[null,null,"日　付",null,null,null,null,null,null,null,null,null,null,"合　計",null,null,null,null,null,null,null,null,null,"カレー"]
["朝","朝　食\n（小学生未満対象）",null,null,null,"食",null,"食",null,"食",null,null,"食",{"$f":"E7+G7+I7+K7","v":0},"食",null,null,null,null,null,null,null,null,"焼きそば"]
[null,"朝　食\n（小学生対象）",null,null,null,"食",null,"食",null,"食",null,null,"食",{"$f":"E8+G8+I8+K8","v":0},"食"]
[null,"朝　食\n（中学生以上対象）",null,null,null,"食",null,"食",null,"食",null,null,"食",{"$f":"E9+G9+I9+K9","v":0},"食"]
[null,"追加おかず\n（希望の場合は〇）",null,null,null,null,null,null,null,null,null,null,null,{"$f":"COUNTA(E10:M10)","v":0}]
[null,"追加ご飯\n（１合単位で注文）",null,null,null,"合",null,"合",null,"合",null,null,"合",{"$f":"E11+G11+I11+K11","v":0},"合",null,null,null,null,null,null,null,null,"豚汁"]
["昼","昼　食\n（小学生未満対象）",null,null,null,"食",null,"食",null,"食",null,null,"食",{"$f":"E12+G12+I12+K12","v":0},"食"]
[null,"昼　食\n（小学生対象）",null,null,null,"食",null,"食",null,"食",null,null,"食",{"$f":"E13+G13+I13+K13","v":0},"食"]
[null,"昼　食\n（中学生以上対象）",null,null,null,"食",null,"食",null,"食",null,null,"食",{"$f":"E14+G14+I14+K14","v":0},"食"]
[null,"追加おかず\n（希望の場合は〇）",null,null,null,null,null,null,null,null,null,null,null,{"$f":"COUNTA(E15:M15)","v":0}]
[null,"追加ご飯\n（１合単位で注文）",null,null,null,"合",null,"合",null,"合",null,null,"合",{"$f":"E16+G16+I16+K16","v":0},"合"]
[null,"野外\n炊飯","カレー\n焼きそば\n豚汁",null,null,null,null,null,null,null,null,null,null,{"$f":"E18+G18+I18+K18","v":0},"食","\n"]
[null,null,null,null,null,"食",null,"食",null,"食",null,null,"食"]
[null,null,"BBQ",null,null,"食",null,"食",null,"食",null,null,"食",{"$f":"E19+G19+I19+K19","v":0},"食"]
[null,null,"追加ご飯",null,null,"合",null,"合",null,"合",null,null,"合",{"$f":"E20+G20+I20+K20","v":0},"合"]
["夕","夕　食\n（小学生未満対象）",null,null,null,"食",null,"食",null,"食",null,null,"食",0,"食"]
[null,"夕　食\n（小学生対象）",null,null,null,"食",null,"食",null,"食",null,null,"食",0,"食"]
[null,"夕　食\n（中学生以上対象）",null,null,null,"食",null,"食",null,"食",null,null,"食",0,"食"]
[null,"おかず追加\n（希望の場合は〇）",null,null,null,null,null,null,null,null,null,null,null,{"$f":"COUNTA(E24:M24)","v":0}]
[null,"追加ご飯\n（１合単位で注文）",null,null,null,"合",null,"合",null,"合",null,null,"合",{"$f":"E25+G25+I25+K25","v":0},"合"]
[null,"野外\n炊飯","カレー\n焼きそば\n豚汁",null,null,null,null,null,null,null,null,null,null,{"$f":"E27+G27+I27+K27","v":0},"食"]
[null,null,null,null,null,"食",null,"食",null,"食",null,null,"食"]
[null,null,"BBQ",null,null,"食",null,"食",null,"食",null,null,"食",{"$f":"E28+G28+I28+K28","v":0},"食"]
[null,null,"追加ご飯",null,null,"合",null,"合",null,"合",null,null,"合",{"$f":"E29+G29+I29+K29","v":0},"合"]
["氷","１袋（２ｋｇ）\n※1日５袋まで",null,null,null,"袋",null,"袋",null,"袋",null,null,"袋",{"$f":"E30+G30+I30+K30","v":0},"袋"]
["〇連絡事項やBBQの追加についてはこちらにお書きください。"]
["【注意・連絡事項】\n・氷は１日にできる量に限りがあるので、ご希望に添えない場合があります。\n・BBQの追加メニューについては、少年自然の家HPをご覧ください。\n・食材発注の関係から食事についてはキャンセル料がかかります。"]
["キャンセル\n食数変更",null,"レストラン食・弁当\n野外炊飯共通",null,null,"入所日の１週間前から100％"]
[null,null,null,null,null,"例：入所が土曜日であれば前週の金曜日までキャンセル・変更可"]

{"sheet":"➄食物ｱﾚﾙｷﾞ‐事前確認票","index":4,"n_rows":54,"n_cols":17,"rows_kept":54,"cut":false,"hidden":false,"merged":[[0,0,0,12],[0,13,0,14],[0,15,2,16],[1,1,1,14],[2,10,2,14],[3,1,3,4],[3,5,3,15],[8,1,8,4],[8,5,8,7],[8,8,8,15],[28,14,30,14],[28,15,30,15],[28,16,30,16],[29,2,30,4],[26,13,27,13],[13,1,13,15],[14,1,14,15],[15,1,15,15],[4,1,5,4],[4,5,4,15],[5,5,5,15],[6,1,6,4],[6,5,6,15],[7,1,7,4],[7,5,7,15],[19,0,20,6],[24,0,24,6],[25,7,25,16],[26,1,27,1],[26,2,27,4],[26,5,27,5],[26,6,27,6],[26,7,26,9],[26,10,27,11],[26,12,27,12],[26,14,26,16],[27,7,27,9],[31,10,33,11],[31,12,33,12],[31,13,33,13],[31,14,33,14],[31,15,33,15],[31,16,33,16],[31,1,33,1],[31,2,31,4],[31,5,33,5],[31,6,33,6],[31,7,33,7],[31,8,33,8],[32,2,33,4],[28,1,30,1],[28,2,28,4],[28,5,30,5],[28,6,30,6],[28,7,30,7],[28,8,30,8],[28,10,30,11],[28,12,30,12],[28,13,30,13],[34,10,36,11],[34,12,36,12],[34,13,36,13],[34,14,36,14],[34,15,36,15],[34,16,36,16],[34,1,36,1],[34,2,34,4],[34,5,36,5],[34,6,36,6],[34,7,36,7],[34,8,36,8],[35,2,36,4],[37,10,39,11],[37,12,39,12],[37,13,39,13],[37,14,39,14],[37,15,39,15],[37,16,39,16],[37,1,39,1],[37,2,37,4],[37,5,39,5],[37,6,39,6],[37,7,39,7],[37,8,39,8],[38,2,39,4],[40,10,42,11],[40,12,42,12],[40,13,42,13],[40,14,42,14],[40,15,42,15],[40,16,42,16],[40,1,42,1],[40,2,40,4],[40,5,42,5],[40,6,42,6],[40,7,42,7],[40,8,42,8],[41,2,42,4],[43,10,45,11],[43,12,45,12],[43,13,45,13],[43,14,45,14],[43,15,45,15],[43,16,45,16],[43,1,45,1],[43,2,43,4],[43,5,45,5],[43,6,45,6],[43,7,45,7],[43,8,45,8],[44,2,45,4],[46,10,48,11],[46,12,48,12],[46,13,48,13],[46,14,48,14],[46,15,48,15],[46,16,48,16],[46,1,48,1],[46,2,46,4],[46,5,48,5],[46,6,48,6],[46,7,48,7],[46,8,48,8],[47,2,48,4]]}
["　　　　　      　　　食物アレルギー事前確認票（波戸岬少年自然の家食堂）",null,null,null,null,null,null,null,null,null,null,null,null,"ページ数",null,"/"]
[null,"※下記内容の個人情報は食物アレルギー等、食材の除去対応の目的以外には利用致しません"]
["１．対象者情報",null,null,null,null,null,null,null,null,null,"利用日の１ヶ月前までにご提出ください。"]
[null,"団体名",null,null,null,{"$f":"[2]①利用許可書!R7","v":0}]
[null,"アレルギー\n担当者氏名",null,null,null,"（フリガナ）"]
[null,null,null,null,null,"　　　　　　　　　　　　"]
[null,"連絡先",null,null,null,"　電話　　　　　　　　　　　　　　　　　　　　　　　　FAX　　　　　　　　　　　　　　　　　　　　　　\n　メールアドレス　　　　　　　　　　　　　　　　　　　　　　　　　　　　　　　　　　　　　　　　　　 　　"]
[null,"利用期間",null,null,null,"　月　　　日（　　）【朝・昼・夕】　～　　　月　　　日（　　）【朝・昼・夕】"]
[null,"アレルギー該当者",null,null,null,"有　・　無",null,null,"　　記入後は最後の下記同意欄への  署名  を必ずお願いいたします。"]
["２．対応方法について"]
[null,"ウェブサイト掲載の「アレルゲン表」「食物アレルギー対応について」をご確認の上、"]
[null,"下記表に、食物アレルギー対応者情報と、（A）～（C）いずれかのご希望対応をご記入ください。"]
[]
[null,"　　　レストランでは調理・提供時のコンタミネーションの可能性がございます。　ごく微量の摂取にて、アナフィラキシーショック等、"]
[null,"　　　重篤な症状を起こす可能性のある方は、万が一の事態を考慮し、（B)の持ち込み対応を頂きますよう、お願いいたします。"]
[null,"※提供している揚げ物調理は共有の油を使用しております。ご心配な方は（B)の持ち込み対応を頂きますよう、お願いいたします。"]
[]
[null,"◆食堂対応",null,null,null,null,null,"◆弁当対応",null,null,"◆野外炊飯対応",null,"対応方法、食物アレルギーについてのご相談は、"]
[null,"（A）一般食・自己除去対応",null,null,null,null,null,null,null,null,null,null,"下記食堂窓口までご連絡ください。"]
["盛付提供の為、アレルゲン\n食材の付着・提供がございます。",null,null,null,null,null,null,"（A）自己除去",null,null,"（A）自己除去",null,"　食堂TEL：070-1548-8099　原田"]
[null,null,null,null,null,null,null,null,null,null,null,null,"　　　（受付時間　９時～16時）"]
[null,"（B）持ち込み対応",null,null,null,null,null,"（B）持ち込み対応",null,null,"（B）持ち込み対応",null,"MAIL　　Kana.Harada@compass-jpn.com"]
[]
[null,"（C）除去食対応",null,null,null,null,null,"（C）代替食対応",null,null,"野外炊飯のアレルギー対応は、いたしかねます"]
["代替の提供はありません"]
[null,null,null,null,null,null,null,"※　食堂のご利用人数に応じて、提供方法を変更させて頂く場合がございます。その場合は、団体責任者の方へご相談をさせて頂きます。"]
[null,null,"氏名（ふりがな）",null,null,"性別","年齢","食物アレルギー",null,null,"アナフィラキシーショック等、重篤な症状を起こす可能性はありますか\n「はい」の方は\n持込対応となります",null,"エピペン・処方薬は所持していますか\n「はい」の方は\n持込対応となります","記載の内容は学校生活管理指導表と一致して\nいますか。","対応"]
[null,null,null,null,null,null,null,"アレルギー食材",null,null,null,null,null,null,"食堂","弁当","野外\n炊飯"]
[null,"例）","せいしょう　ねんたろう",null,null,"男",14,"たまご","ごま",null,"いいえ\n\nはい(B)持ち込み対応",null,"いいえ\n\nはい(B)持ち込み対応","いいえ\nはい\n不明","(A)","(B)","(B)"]
[null,null,"青少年　太郎"]
[]
[null,1,null,null,null,null,null,null,null,null,"いいえ\n\nはい(B)持ち込み対応",null,"いいえ\n\nはい(B)持ち込み対応","いいえ\nはい\n不明"]
[]
[]
[null,2,null,null,null,null,null,null,null,null,"いいえ\n\nはい(B)持ち込み対応",null,"いいえ\n\nはい(B)持ち込み対応","いいえ\nはい\n不明"]
[]
[]
[null,3,null,null,null,null,null,null,null,null,"いいえ\n\nはい(B)持ち込み対応",null,"いいえ\n\nはい(B)持ち込み対応","いいえ\nはい\n不明"]
[]
[]
[null,4,null,null,null,null,null,null,null,null,"いいえ\n\nはい(B)持ち込み対応",null,"いいえ\n\nはい(B)持ち込み対応","いいえ\nはい\n不明"]
[]
[]
[null,5,null,null,null,null,null,null,null,null,"いいえ\n\nはい(B)持ち込み対応",null,"いいえ\n\nはい(B)持ち込み対応","いいえ\nはい\n不明"]
[]
[]
[null,6,null,null,null,null,null,null,null,null,"いいえ\n\nはい(B)持ち込み対応",null,"いいえ\n\nはい(B)持ち込み対応","いいえ\nはい\n不明"]
[]
[]
[]
[]
["　","　別紙「食物アレルギーの対応について」を確認の上、上記記載事項に同意し,相違ございません。"]
[]
[null,null,null,null,"令和　　　年　　　月　　　日",null,null,null,null,null,"署名"]

{"sheet":"➅誓約書","index":5,"n_rows":31,"n_cols":8,"rows_kept":31,"cut":false,"hidden":false,"merged":[[24,4,24,5],[26,4,26,5],[24,6,24,9],[26,6,26,9],[27,2,27,10],[28,2,28,10],[29,2,29,10],[30,2,30,10],[1,0,1,10],[2,2,2,10],[21,2,21,10],[23,2,23,10],[25,2,25,10],[15,2,15,10],[16,2,16,10],[17,2,17,10],[18,2,18,10],[19,2,19,10],[20,2,20,10],[9,2,9,10],[10,2,10,10],[0,2,0,10],[3,2,3,10],[5,2,5,10],[6,2,6,10],[8,2,8,10],[4,0,4,10],[11,2,11,10],[12,2,12,10],[13,2,13,10],[14,2,14,10],[22,7,22,9]]}
[]
["誓　　約"]
[]
[]
["私は、波戸岬少年自然の家利用申込に当たり、次の事項について誓約します。"]
[]
[null,null,"◎ 内容を確認の上、チェック欄にチェックを入れてください。"]
[]
["①",null,"自己または団体の役員等が、次の各号のどれにも該当する者ではありません。"]
[null,null,"また、次の各号に掲げる者が、その経営に実質的に関与している法人その他の団体また"]
[null,null,"は個人ではありません。"]
[]
[null,"ア","暴力団（暴力団員による不当な行為の防止等に関する法律（平成３年法律第７７号）第２条第２号に規定する暴力団をいう。以下同じ。）"]
[null,"イ","暴力団員（同法第２条第６号に規定する暴力団員をいう。以下同じ。）"]
[null,"ウ","暴力団員でなくなった日から５年を経過しない者"]
[null,"エ","自己、自社若しくは第三者の不正な利益を図る目的又は第三者に損害を与える目的をもって暴力団又は暴力団員を利用している者"]
[null,"オ","暴力団又は暴力団員に対して資金等を提供し、又は便宜を供与するなど、直接的若しくは積極的に暴力団の維持運営に協力し、又は関与している者"]
[null,"カ","暴力団又は暴力団員と社会的に批判されるべき関係を有している者"]
[null,"キ","暴力団又は暴力団員であることを知りながらこれらを利用している者"]
[]
["②",null,"営利・布教・政治活動目的の使用は行いません。"]
[]
[null,null,null,null,null,null,null,{"$f":"\"令和\"&①利用許可書!U4&\"　　年\"&①利用許可書!W4&\"　　月\"&①利用許可書!Y4&\"　　日\"","v":"令和　　年　　月　　日"}]
[]
[null,null,"　　　　　　　　　　　　　",null,"利用団体名",null,{"$f":"①利用許可書!R7","v":0}]
[]
[null,null,null,null,"責任者氏名",null,{"$f":"①利用許可書!R10","v":0}]
[]
[]
[]
[null,null,"※利用申込書と一緒にご提出ください。"]

{"sheet":"統括表","index":6,"n_rows":84,"n_cols":34,"rows_kept":84,"cut":false,"hidden":true,"merged":[[28,0,28,3],[29,0,29,3],[30,0,30,3],[31,0,31,3],[26,0,26,3],[5,0,10,2],[5,3,6,5],[5,6,6,23],[7,3,8,5],[7,6,8,23],[9,3,10,5],[9,6,10,23],[14,0,14,23],[15,0,18,2],[15,3,15,6],[15,7,15,10],[15,11,15,16],[15,17,15,23],[16,3,16,4],[16,5,16,6],[16,7,16,8],[16,9,16,10],[16,11,16,13],[16,14,16,16],[0,0,1,15],[0,21,1,21],[0,22,1,23],[3,3,3,6],[3,7,3,15],[4,3,4,9],[4,13,4,23],[12,19,13,22],[12,23,13,23],[12,0,13,2],[12,3,13,7],[12,8,13,9],[12,10,13,14],[12,15,13,17],[12,18,13,18],[16,17,18,23],[17,3,18,4],[17,5,18,6],[17,7,18,8],[17,9,18,10],[17,11,18,13],[24,4,25,4],[24,5,25,5],[24,6,25,6],[24,7,25,7],[24,8,25,8],[24,9,25,9],[17,14,18,16],[19,0,20,23],[21,4,23,9],[21,10,21,15],[21,16,23,21],[21,22,25,23],[22,10,22,15],[23,10,23,15],[24,16,25,16],[24,17,25,17],[24,18,25,18],[24,19,25,19],[24,20,25,20],[24,21,25,21],[24,10,25,10],[24,11,25,11],[24,12,25,12],[24,13,25,13],[24,14,25,14],[24,15,25,15],[28,26,33,26],[29,22,29,23],[30,22,30,23],[26,22,26,23],[26,26,26,33],[27,22,27,23],[31,22,31,23],[32,0,32,3],[32,22,32,23],[33,0,33,3],[33,22,33,23],[28,22,28,23],[36,15,36,23],[37,0,38,1],[37,2,37,4],[37,5,37,6],[37,7,37,8],[37,11,37,13],[37,15,39,22],[37,23,39,23],[34,14,34,15],[34,16,34,17],[34,18,34,19],[34,20,34,21],[34,22,34,23],[35,0,35,23],[34,0,34,3],[34,4,34,5],[34,6,34,7],[34,8,34,9],[34,10,34,11],[34,12,34,13],[38,2,38,4],[38,5,38,6],[38,7,38,8],[38,11,38,13],[39,0,39,4],[39,5,39,6],[39,7,39,8],[39,11,39,13],[36,0,36,4],[36,5,36,14],[42,17,44,18],[42,19,56,22],[42,23,56,23],[43,9,43,10],[43,11,43,12],[44,9,44,10],[44,11,44,12],[40,18,40,23],[41,0,41,4],[41,5,41,13],[41,14,41,16],[41,17,41,23],[42,0,44,4],[42,9,42,10],[42,11,42,12],[42,14,44,15],[42,16,44,16],[45,0,47,4],[45,9,45,10],[45,11,45,12],[45,14,47,15],[45,16,47,16],[45,17,47,18],[46,9,46,10],[46,11,46,12],[47,9,47,10],[47,11,47,12],[48,0,50,4],[48,9,48,10],[48,11,48,12],[48,14,50,15],[48,16,50,16],[48,17,50,18],[49,9,49,10],[49,11,49,12],[50,9,50,10],[50,11,50,12],[51,0,53,4],[51,9,51,10],[51,11,51,12],[51,14,53,15],[51,16,53,16],[51,17,53,18],[52,9,52,10],[52,11,52,12],[53,9,53,10],[53,11,53,12],[63,0,64,23],[65,0,65,1],[65,2,65,4],[65,5,65,6],[65,11,65,12],[65,14,65,16],[65,17,65,23],[54,0,56,4],[54,9,54,10],[54,11,54,12],[54,14,56,15],[54,16,56,16],[54,17,56,18],[55,9,55,10],[55,11,55,12],[56,9,56,10],[56,11,56,12],[66,23,83,23],[67,2,67,4],[67,11,67,12],[68,2,68,4],[68,11,68,12],[69,0,71,1],[69,2,69,4],[69,11,69,12],[69,14,71,15],[69,16,71,16],[66,0,68,1],[66,2,66,4],[66,11,66,12],[66,14,68,15],[66,16,68,16],[66,17,83,22],[70,2,70,4],[70,11,70,12],[71,2,71,4],[71,11,71,12],[75,16,77,16],[76,2,76,4],[76,11,76,12],[77,2,77,4],[77,11,77,12],[72,0,74,1],[72,2,72,4],[72,11,72,12],[72,14,74,15],[72,16,74,16],[73,2,73,4],[73,11,73,12],[74,2,74,4],[74,11,74,12],[21,0,25,3],[27,0,27,3],[81,0,83,1],[81,2,81,4],[81,11,81,12],[81,14,83,15],[81,16,83,16],[82,2,82,4],[82,11,82,12],[83,2,83,4],[83,11,83,12],[78,0,80,1],[78,2,78,4],[78,11,78,12],[78,14,80,15],[78,16,80,16],[79,2,79,4],[79,11,79,12],[80,2,80,4],[80,11,80,12],[75,0,77,1],[75,2,75,4],[75,11,75,12],[75,14,77,15]]}
["佐賀県波戸岬少年自然の家　　利用統括表",null,null,null,null,null,null,null,null,null,null,null,null,null,null,null,null,null,null,null,null,"担当"]
[]
[]
[null,null,null,"利用団体確認者"]
[]
["利用団体",null,null,"団体名",null,null,{"$f":"①利用許可書!R7","v":0},null,null,null,null,null,null,null,null,null,null,null,null,null,null,null,null,null,null,null,null,"←　入力する前にボタンを押してください"]
[]
[null,null,null,"所在地",null,null,{"$f":"①利用許可書!R9","v":0}]
[]
[null,null,null,"責任者名",null,null,{"$f":"①利用許可書!R10","v":0}]
[]
[]
["利用期間",null,null,{"$f":"\"令和\"&①利用許可書!J22&\"年\"&①利用許可書!L22&\"月\"&①利用許可書!O22&\"日（\"&①利用許可書!R22&\"）\"","v":"令和年月女日（）"},null,null,null,null,"～",null,{"$f":"\"令和\"&①利用許可書!J23&\"年\"&①利用許可書!L23&\"月\"&①利用許可書!O23&\"日（\"&①利用許可書!R23&\"）\"","v":"令和年月日（）"},null,null,null,null,{"$f":"①利用許可書!Y22","v":0},null,null,"泊",{"$f":"①利用許可書!AA22","v":0},null,null,null,"日"]
[]
["＜職員記入欄＞"]
["実人員",null,null,"中学生以下（3歳未満も含む）",null,null,null,"高校生以上・大人",null,null,null,"計",null,null,null,null,null,"合計"]
[null,null,null,"男性",null,"女性",null,"男性",null,"女性",null,"男性",null,null,"女性",null,null,{"$f":"IF(D18+F18+H18+J18=0,\"\",D18+F18+H18+J18)","v":{"$error":"#VALUE!"}}]
[null,null,null,{"$f":"①利用許可書!H29+①利用許可書!H26","v":{"$error":"#VALUE!"}},null,{"$f":"①利用許可書!H30+①利用許可書!H27","v":{"$error":"#VALUE!"}},null,{"$f":"①利用許可書!H32+①利用許可書!H36","v":{"$error":"#VALUE!"}},null,{"$f":"①利用許可書!H34+①利用許可書!H37","v":0},null,{"$f":"IF(D18+H18=0,\"\",D18+H18)","v":{"$error":"#VALUE!"}},null,null,{"$f":"IF(F18+J18=0,\"\",F18+J18)","v":{"$error":"#VALUE!"}}]
[]
["宿泊期日・宿泊人数"]
[]
["宿泊期日",null,null,null,"中学生以下",null,null,null,null,null,"高校生・大学生・青年（２２歳以下）",null,null,null,null,null,"左記以外の大人",null,null,null,null,null,"宿泊人数\n合計"]
[null,null,null,null,null,null,null,null,null,null,"保・幼・小・中・高の指導者"]
[null,null,null,null,null,null,null,null,null,null,"（教育内活動に係る教職員等）"]
[null,null,null,null,"男性\n人数","内減\n免者","女性\n人数","内減\n免者","小計","内減\n免者","男性\n人数","内減\n免者","女性\n人数","内減\n免者","小計","内減\n免者","男性\n人数","内減\n免者","女性\n人数","内減\n免者","小計","内減\n免者"]
[]
[{"$f":"\"令和\"&①利用許可書!$J$22&\"年\"&①利用許可書!#REF!&\"月\"&①利用許可書!$M$25&\"日\"","v":{"$error":"#REF!"}},null,null,null,{"$f":"①利用許可書!K26+①利用許可書!K29","v":{"$error":"#VALUE!"}},null,null,null,{"$f":"IF(E27+G27=0,\"\",E27+G27)","v":{"$error":"#VALUE!"}},{"$f":"IF(F27+H27=0,\"\",F27+H27)","v":""},null,null,null,null,{"$f":"IF(K27+M27=0,\"\",K27+M27)","v":""},{"$f":"IF(L27+N27=0,\"\",L27+N27)","v":""},null,null,null,null,{"$f":"IF(Q27+S27=0,\"\",Q27+S27)","v":""},{"$f":"IF(R27+T27=0,\"\",R27+T27)","v":""},{"$f":"IF(E27+G27+K27+M27+Q27+S27=0,\"\",E27+G27+K27+M27+Q27+S27)","v":{"$error":"#VALUE!"}},null,{"$f":"IF(E27-F27+G27-H27+K27-L27+M27-N27+Q27-R27+S27-T27=0,\"\",E27-F27+G27-H27+K27-L27+M27-N27+Q27-R27+S27-T27)","v":{"$error":"#VALUE!"}},null,"宿泊人数（検算用）手入力で確認すること"]
[{"$f":"\"令和\"&①利用許可書!$J$22&\"年\"&①利用許可書!$O$25&\"月\"&①利用許可書!$Q$25&\"日\"","v":"令和年日月曜日日"},null,null,null,null,null,null,null,{"$f":"IF(E28+G28=0,\"\",E28+G28)","v":""},"",null,null,null,null,{"$f":"IF(K28+M28=0,\"\",K28+M28)","v":""},"",null,null,null,null,{"$f":"IF(Q28+S28=0,\"\",Q28+S28)","v":""},{"$f":"IF(R28+T28=0,\"\",R28+T28)","v":""},{"$f":"IF(E28+G28+K28+M28+Q28+S28=0,\"\",E28+G28+K28+M28+Q28+S28)","v":""},null,{"$f":"IF(E28-F28+G28-H28+K28-L28+M28-N28+Q28-R28+S28-T28=0,\"\",E28-F28+G28-H28+K28-L28+M28-N28+Q28-R28+S28-T28)","v":""},null,"宿泊",null,"第１日目宿泊者","第２日目宿泊者","第３日目宿泊者","第４日目宿泊者","第５日目宿泊者","第６日目宿泊者"]
[{"$f":"\"令和\"&①利用許可書!$J$22&\"年\"&①利用許可書!$T$25&\"月\"&①利用許可書!$V$25&\"日\"","v":"令和年時月分日"},null,null,null,null,null,null,null,"","",null,null,null,null,"","",null,null,null,null,{"$f":"IF(Q29+S29=0,\"\",Q29+S29)","v":""},"","",null,{"$f":"IF(E29-F29+G29-H29+K29-L29+M29-N29+Q29-R29+S29-T29=0,\"\",E29-F29+G29-H29+K29-L29+M29-N29+Q29-R29+S29-T29)","v":""},null,"シーツ代",{"$f":"A27","v":{"$error":"#REF!"}},{"$f":"Y27","v":{"$error":"#VALUE!"}}]
[{"$f":"\"令和\"&①利用許可書!$J$22&\"年\"&①利用許可書!#REF!&\"月\"&①利用許可書!$Y$25&\"日\"","v":{"$error":"#REF!"}},null,null,null,null,null,null,null,"","",null,null,null,null,"","",null,null,null,null,"","","",null,{"$f":"IF(E30-F30+G30-H30+K30-L30+M30-N30+Q30-R30+S30-T30=0,\"\",E30-F30+G30-H30+K30-L30+M30-N30+Q30-R30+S30-T30)","v":""},null,null,{"$f":"A28","v":"令和年日月曜日日"}]
[{"$f":"IF($P$13>4,A30+1,\"\")","v":""},null,null,null,null,null,null,null,"","",null,null,null,null,"","",null,null,null,null,"","","",null,"",null,null,"令和年時月分日"]
[{"$f":"IF($P$13>5,A31+1,\"\")","v":""},null,null,null,null,null,null,null,"","",null,null,null,null,"","",null,null,null,null,"","","",null,"",null,null,{"$error":"#REF!"}]
["宿泊延人数",null,null,null,{"$f":"IF(SUM(E27:E32)=0,\"\",SUM(E27:E32))","v":{"$error":"#VALUE!"}},null,{"$f":"IF(SUM(G27:G32)=0,\"\",SUM(G27:G32))","v":""},null,{"$f":"IF(SUM(I27:I32)=0,\"\",SUM(I27:I32))","v":{"$error":"#VALUE!"}},null,{"$f":"IF(SUM(K27:K32)=0,\"\",SUM(K27:K32))","v":""},null,{"$f":"IF(SUM(M27:M32)=0,\"\",SUM(M27:M32))","v":""},null,{"$f":"IF(SUM(O27:O32)=0,\"\",SUM(O27:O32))","v":""},null,{"$f":"IF(SUM(Q27:Q32)=0,\"\",SUM(Q27:Q32))","v":""},null,{"$f":"IF(SUM(S27:S32)=0,\"\",SUM(S27:S32))","v":""},null,{"$f":"IF(SUM(U27:U32)=0,\"\",SUM(U27:U32))","v":""},null,{"$f":"IF(SUM(I33,O33,U33)=0,\"\",(SUM(I33,O33,U33)))","v":{"$error":"#VALUE!"}},null,null,null,null,""]
["減免者延人数",null,null,null,null,{"$f":"IF(SUM(F27:F32)=0,\"\",SUM(F27:F32))","v":""},null,{"$f":"IF(SUM(H27:H32)=0,\"\",SUM(H27:H32))","v":""},null,{"$f":"IF(SUM(J27:J32)=0,\"\",SUM(J27:J32))","v":""},null,{"$f":"IF(SUM(L27:L32)=0,\"\",SUM(L27:L32))","v":""},null,{"$f":"IF(SUM(N27:N32)=0,\"\",SUM(N27:N32))","v":""},null,{"$f":"IF(SUM(P27:P32)=0,\"\",SUM(P27:P32))","v":""},null,{"$f":"IF(SUM(R27:R32)=0,\"\",SUM(R27:R32))","v":""},null,{"$f":"IF(SUM(T27:T32)=0,\"\",SUM(T27:T32))","v":""},null,{"$f":"IF(SUM(V27:V32)=0,\"\",SUM(V27:V32))","v":""},{"$f":"SUM(J34,P34,V34)","v":0},null,null,null,null,""]
["差引合計人数",null,null,null,{"$f":"IF(SUM(E27:E32)-SUM(F27:F32)=0,\"\",SUM(E27:E32)-SUM(F27:F32))","v":{"$error":"#VALUE!"}},null,{"$f":"IF(SUM(G27:G32)-SUM(H27:H32)=0,\"\",SUM(G27:G32)-SUM(H27:H32))","v":""},null,{"$f":"IF(SUM(I27:I32)-SUM(J27:J32)=0,\"\",SUM(I27:I32)-SUM(J27:J32))","v":{"$error":"#VALUE!"}},null,{"$f":"IF(SUM(K27:K32)-SUM(L27:L32)=0,\"\",SUM(K27:K32)-SUM(L27:L32))","v":""},null,{"$f":"IF(SUM(M27:M32)-SUM(N27:N32)=0,\"\",SUM(M27:M32)-SUM(N27:N32))","v":""},null,{"$f":"IF(SUM(O27:O32)-SUM(P27:P32)=0,\"\",SUM(O27:O32)-SUM(P27:P32))","v":""},null,{"$f":"IF(SUM(Q27:Q32)-SUM(R27:R32)=0,\"\",SUM(Q27:Q32)-SUM(R27:R32))","v":""},null,{"$f":"IF(SUM(S27:S32)-SUM(T27:T32)=0,\"\",SUM(S27:S32)-SUM(T27:T32))","v":""},null,{"$f":"IF(SUM(U27:U32)-SUM(V27:V32)=0,\"\",SUM(U27:U32)-SUM(V27:V32))","v":""},null,{"$f":"IF(W33=\"\",\"\",(SUM(W33-W34)))","v":{"$error":"#VALUE!"}},null,null,null,"合計",{"$f":"IF(AC35=0,\"\",(SUM(AC35:AH35)))","v":{"$error":"#VALUE!"}},{"$f":"SUM(AC29:AC34)","v":{"$error":"#VALUE!"}},{"$f":"SUM(AD29:AD34)","v":0},0,0,0,0]
[]
[null,null,null,null,null,"利用料金",null,null,null,null,null,null,null,null,null,"合   計"]
["施設利用\n料金",null,"高・大・青・指",null,null,"３００円×",null,{"$f":"O35","v":""},null,"人","＝",{"$f":"IF(H38=\"\",\"\",300*H38)","v":""},null,null,"円",{"$f":"IF(H40=\"\",\"\",SUM(L38:N40))","v":{"$error":"#VALUE!"}},null,null,null,null,null,null,null,"円"]
[null,null,"大人",null,null,"７００円×",null,{"$f":"U35","v":""},null,"人","＝",{"$f":"IF(H39=\"\",\"\",700*H39)","v":""},null,null,"円"]
["寝具代",null,null,null,null,"３００円×",null,{"$f":"AB35","v":{"$error":"#VALUE!"}},null,"組","＝",{"$f":"IF(H40=\"\",\"\",300*H40)","v":{"$error":"#VALUE!"}},null,null,"円"]
[]
["請求書（領収書）宛名",null,null,null,null,"内     訳",null,null,null,null,null,null,null,null,"計",null,null,"合    計"]
["明倫小学校５年生",null,null,null,null,300,"円","×",null,"人分＝",null,{"$f":"IF(I43=\"\",\"\",F43*I43)","v":""},null,"円",{"$f":"IF(I45=\"\",\"\",SUM(L43:L45))","v":23700},null,"円","請求書１\n（領収証１）",null,{"$f":"IF(SUM(N43:O57)=0,\"\",SUM(N43:O57))","v":28500},28500,"","","円"]
[null,null,null,null,null,700,"円","×",null,"人分＝",null,{"$f":"IF(I44=\"\",\"\",F44*I44)","v":""},null,"円",null,null,null,null,null,{"$f":"IF(SUM(N44:O58)=0,\"\",SUM(N44:O58))","v":4800},4800,"",""]
[null,null,null,null,null,300,"円","×",79,"組＝",null,{"$f":"IF(I45=\"\",\"\",F45*I45)","v":23700},null,"円",null,null,null,null,null,4800,4800,"",""]
["明倫小学校教職員",null,null,null,null,300,"円","×",8,"人分＝",null,2400,null,"円",{"$f":"IF(I48=\"\",\"\",SUM(L46:L48))","v":4800},null,"円","請求書２\n（領収証２）",null,4800,4800,"",""]
[null,null,null,null,null,700,"円","×",null,"人分＝",null,"",null,"円",null,null,null,null,null,{"$f":"IF(SUM(N47:O61)=0,\"\",SUM(N47:O61))","v":""},"","",""]
[null,null,null,null,null,300,"円","×",8,"組＝",null,2400,null,"円",null,null,null,null,null,"","","",""]
[null,null,null,null,null,300,"円","×",null,"人分＝",null,"",null,"円",{"$f":"IF(I51=\"\",\"\",SUM(L49:L51))","v":""},null,"円","請求書３\n（領収証３）",null,{"$f":"IF(SUM(N49:O63)=0,\"\",SUM(N49:O63))","v":""},"","",""]
[null,null,null,null,null,700,"円","×",null,"人分＝",null,"",null,"円",null,null,null,null,null,{"$f":"IF(SUM(N50:O64)=0,\"\",SUM(N50:O64))","v":""},"","",""]
[null,null,null,null,null,300,"円","×",null,"組＝",null,"",null,"円",null,null,null,null,null,"","","",""]
[null,null,null,null,null,300,"円","×",null,"人分＝",null,"",null,"円",{"$f":"IF(I54=\"\",\"\",SUM(L52:L54))","v":""},null,"円","請求書４\n（領収証４）",null,{"$f":"IF(SUM(N52:O66)=0,\"\",SUM(N52:O66))","v":""},"","",""]
[null,null,null,null,null,700,"円","×",null,"人分＝",null,"",null,"円",null,null,null,null,null,{"$f":"IF(SUM(N53:O67)=0,\"\",SUM(N53:O67))","v":{"$error":"#VALUE!"}},{"$error":"#VALUE!"},"",{"$error":"#VALUE!"}]
[null,null,null,null,null,300,"円","×",null,"組＝",null,"",null,"円",null,null,null,null,null,{"$error":"#VALUE!"},{"$error":"#VALUE!"},"",{"$error":"#VALUE!"}]
[null,null,null,null,null,300,"円","×",null,"人分＝",null,"",null,"円",{"$f":"IF(I57=\"\",\"\",SUM(L55:L57))","v":""},null,"円","請求書４\n（領収証５）",null,{"$f":"IF(SUM(N55:O69)=0,\"\",SUM(N55:O69))","v":{"$error":"#VALUE!"}},{"$error":"#VALUE!"},"",{"$error":"#VALUE!"}]
[null,null,null,null,null,700,"円","×",null,"人分＝",null,"",null,"円",null,null,null,null,null,{"$f":"IF(SUM(N56:O70)=0,\"\",SUM(N56:O70))","v":{"$error":"#VALUE!"}},{"$error":"#VALUE!"},"",{"$error":"#VALUE!"}]
[null,null,null,null,null,300,"円","×",null,"組＝",null,"",null,"円",null,null,null,null,null,{"$error":"#VALUE!"},{"$error":"#VALUE!"},"",{"$error":"#VALUE!"}]
[]
[]
[]
[]
[]
[]
["施設利用料金及び寝具代（確認用）　　＊但し、２泊以上で途中から人数が増える分には対応していないので注意"]
[]
["宿泊日",null,null,null,null,"金額",null,null,"数量","減免",null,"合計",null,null,"計",null,null,"合計"]
[{"$f":"A27","v":{"$error":"#REF!"}},null,"中学生以下",null,null,300,"円","×",{"$f":"IF(I27=\"\",0,I27)","v":{"$error":"#VALUE!"}},{"$f":"IF(J27=\"\",0,J27)","v":0},"=",{"$f":"IF(I67=\"\",\"\",F67*I67)-F67*J67","v":{"$error":"#VALUE!"}},null,"円",{"$f":"IF(I69=\"\",\"\",SUM(L67:L69))","v":{"$error":"#VALUE!"}},null,"円",{"$f":"IF(SUM(L67:M84)=0,\"\",SUM(L67:M84))","v":{"$error":"#VALUE!"}},null,null,null,null,null,"円"]
[null,null,"高・大・青・指",null,null,600,"円","×",{"$f":"IF(O27=\"\",0,O27)","v":0},{"$f":"IF(P27=\"\",0,P27)","v":0},"=",{"$f":"IF(I68=\"\",\"\",F68*I68)-F68*J68","v":0},null,"円"]
[null,null,"大人",null,null,1000,"円","×",{"$f":"IF(U27=\"\",0,U27)","v":0},{"$f":"IF(V27=\"\",0,V27)","v":0},"=",{"$f":"IF(I69=\"\",\"\",F69*I69)-F69*J69","v":0},null,"円"]
[{"$f":"A28","v":"令和年日月曜日日"},null,"中学生以下",null,null,0,"円","×",{"$f":"IF(I28=\"\",0,I28)","v":0},{"$f":"IF(J28=\"\",0,J28)","v":0},"=",0,null,"円",{"$f":"IF(I72=\"\",\"\",SUM(L70:L72))","v":0},null,"円"]
[null,null,"高・大・青・指",null,null,300,"円","×",{"$f":"IF(O28=\"\",0,O28)","v":0},{"$f":"IF(P28=\"\",0,P28)","v":0},"=",0,null,"円"]
[null,null,"大人",null,null,700,"円","×",{"$f":"IF(U28=\"\",0,U28)","v":0},{"$f":"IF(V28=\"\",0,V28)","v":0},"=",0,null,"円"]
[{"$f":"A29","v":"令和年時月分日"},null,"中学生以下",null,null,300,"円","×",{"$f":"IF(I29=\"\",0,I29)","v":0},{"$f":"IF(J29=\"\",0,J29)","v":0},"=",0,null,"円",{"$f":"IF(I75=\"\",\"\",SUM(L73:L75))","v":0},null,"円"]
[null,null,"高・大・青・指",null,null,600,"円","×",{"$f":"IF(O29=\"\",0,O29)","v":0},{"$f":"IF(P29=\"\",0,P29)","v":0},"=",0,null,"円"]
[null,null,"大人",null,null,1000,"円","×",{"$f":"IF(U29=\"\",0,U29)","v":0},{"$f":"IF(V29=\"\",0,V29)","v":0},"=",0,null,"円"]
[{"$f":"A30","v":{"$error":"#REF!"}},null,"中学生以下",null,null,0,"円","×",{"$f":"IF(I30=\"\",0,I30)","v":0},{"$f":"IF(J30=\"\",0,J30)","v":0},"=",0,null,"円",{"$f":"IF(I78=\"\",\"\",SUM(L76:L78))","v":0},null,"円"]
[null,null,"高・大・青・指",null,null,300,"円","×",{"$f":"IF(O30=\"\",0,O30)","v":0},{"$f":"IF(P30=\"\",0,P30)","v":0},"=",0,null,"円"]
[null,null,"大人",null,null,700,"円","×",{"$f":"IF(U30=\"\",0,U30)","v":0},{"$f":"IF(V30=\"\",0,V30)","v":0},"=",0,null,"円"]
[{"$f":"A31","v":""},null,"中学生以下",null,null,300,"円","×",{"$f":"IF(I31=\"\",0,I31)","v":0},{"$f":"IF(J31=\"\",0,J31)","v":0},"=",0,null,"円",{"$f":"IF(I81=\"\",\"\",SUM(L79:L81))","v":0},null,"円"]
[null,null,"高・大・青・指",null,null,600,"円","×",{"$f":"IF(O31=\"\",0,O31)","v":0},{"$f":"IF(P31=\"\",0,P31)","v":0},"=",0,null,"円"]
[null,null,"大人",null,null,1000,"円","×",{"$f":"IF(U31=\"\",0,U31)","v":0},{"$f":"IF(V31=\"\",0,V31)","v":0},"=",0,null,"円"]
[{"$f":"A32","v":""},null,"中学生以下",null,null,0,"円","×",{"$f":"IF(I32=\"\",0,I32)","v":0},{"$f":"IF(J32=\"\",0,J32)","v":0},"=",0,null,"円",{"$f":"IF(I84=\"\",\"\",SUM(L82:L84))","v":0},null,"円"]
[null,null,"高・大・青・指",null,null,300,"円","×",{"$f":"IF(O32=\"\",0,O32)","v":0},{"$f":"IF(P32=\"\",0,P32)","v":0},"=",0,null,"円"]
[null,null,"大人",null,null,700,"円","×",{"$f":"IF(U32=\"\",0,U32)","v":0},{"$f":"IF(V32=\"\",0,V32)","v":0},"=",0,null,"円"]

{"sheet":"許可証","index":7,"n_rows":25,"n_cols":8,"rows_kept":25,"cut":false,"hidden":true,"merged":[[24,1,24,2],[24,3,24,7],[23,1,23,2],[14,6,14,8],[17,0,17,8],[20,0,20,8],[22,1,22,2],[22,3,22,7],[23,3,23,7],[13,6,13,8],[0,0,0,2],[6,0,6,8],[8,7,8,8],[9,7,9,8],[10,0,11,2]]}
["様式第２号（第６条関係）"]
[]
[]
[]
[]
[]
["佐賀県波戸岬少年自然の家利用許可書"]
[]
[null,null,null,null,null,null,null,"第１７４号"]
[null,null,null,null,null,null,null,"令和６年　　月　　日　　"]
[{"$f":"①利用許可書!R7&\"　様\"","v":"　様"}]
[]
[]
[null,null,null,null,null,null,"佐賀県波戸岬少年自然の家"]
[null,null,null,null,null,null,"所　長　　　　　楢　崎　秀　樹"]
[]
[]
["　　　下記のとおり佐賀県波戸岬少年自然の家の利用を許可します。"]
[]
[]
["記"]
[]
[null,"団 体 名",null,{"$f":"①利用許可書!R7","v":0}]
[null,"利用期間",null,{"$f":"\"令和\"&①利用許可書!J22&\"年\"&①利用許可書!L22&\"月\"&①利用許可書!O22&\"日～令和\"&①利用許可書!J23&\"年\"&①利用許可書!L23&\"月\"&①利用許可書!O23&\"日\"","v":"令和年月女日～令和年月日"}]
[null,"利用人員",null,{"$f":"\"男\"&①利用許可書!H39&\"人\"&\"女\"&①利用許可書!H40&\"人\"&\"　計\"&①利用許可書!H41&\"人\"","v":"男人女人　計人"}]